{"text_format":"1","workbook":"xlsx","n_sheets":6,"sheets":["Micro Graphs","Macro Graphs","TaskRawData","MeetingRawData","Statistics","Лист2"],"not_rendered":{"charts":11,"images":0,"macros":1,"external_links":0,"defined_names":4,"comments":0,"pivot_tables":0},"unopened":[],"bounds":{"document_bytes":16777216,"sheet_cells":100000,"rows_first":2000,"rows_last":500,"rows_between":2000,"halvings":0,"cell_chars":16384,"cell_head_chars":4096},"cells_cut":0,"cells_raw":0,"read":"whole","date_system":"1900"}

{"sheet":"Micro Graphs","index":0,"n_rows":9,"n_cols":19,"rows_kept":9,"cut":false,"hidden":false,"merged":[]}
[]
["Updated:","2011-05-20"]
[]
[]
[]
[]
[]
[]
[null,null,null,null,null,null,null,null,null,null,null,null,null,null,null,null,null,null,{"$f":"62400/30","v":2080}]

{"sheet":"Macro Graphs","index":1,"n_rows":2,"n_cols":2,"rows_kept":2,"cut":false,"hidden":false,"merged":[]}
[]
["Updated:","2013-06-24"]

{"sheet":"TaskRawData","index":2,"n_rows":842,"n_cols":6,"rows_kept":842,"cut":false,"hidden":false,"merged":[]}
["Subject","Completed","In Date","Out Date","Category","Task life-time"]
["XXX",true,"2012-12-02","2013-04-08","Dead; Личное",{"$f":"D2-C2","v":127}]
["XXX",true,"2012-12-25","2013-03-19","Личное",84]
["XXX",true,"2013-01-28","2013-03-05","TO CHECK",36]
["XXX",true,"2013-01-30","2013-06-03","Dead",124]
["XXX",true,"2013-01-31","2013-03-05",null,33]
["XXX",true,"2013-02-01","2013-06-03","Dead; TO CHECK",122]
["XXX",true,"2013-02-08","2013-04-08","Dead; Личное",59]
["XXX",true,"2013-02-14","2013-03-19","Личное",33]
["XXX",true,"2013-02-18","2013-03-13","TO CHECK",23]
["XXX",true,"2013-02-18","2013-03-25","Dead; Личное",35]
["XXX",false,"2013-02-21",null,"TO CHECK",{"$f":"TODAY()-C12","v":649}]
["XXX",true,"2013-02-23","2013-03-11","Личное",{"$f":"D13-C13","v":16}]
["XXX",true,"2013-02-25","2013-03-20","Dead; Личное",23]
["XXX",true,"2013-02-26","2013-03-11","Dead; TO CHECK",13]
["XXX",true,"2013-02-28","2013-03-05",null,5]
["XXX",true,"2013-03-01","2013-03-07","TO CHECK",6]
["XXX",true,"2013-03-01","2013-03-13","TO CHECK",12]
["XXX",true,"2013-03-01","2013-03-06","TO CHECK",5]
["XXX",true,"2013-03-01","2013-04-08","Dead; TO CHECK",38]
["XXX",true,"2013-03-04","2013-03-06",null,2]
["XXX",true,"2013-03-04","2013-03-07",null,3]
["XXX",true,"2013-03-04","2013-03-14","Личное",10]
["XXX",true,"2013-03-04","2013-03-07","TO CHECK",3]
["XXX",true,"2013-03-05","2013-03-05",null,0]
["XXX",true,"2013-03-05","2013-03-05",null,0]
["XXX",true,"2013-03-05","2013-03-06",null,1]
["XXX",true,"2012-09-12","2012-09-12",null,0]
["XXX",true,"2012-09-11","2012-09-12",null,1]
["XXX",true,"2012-09-11","2012-09-12","TO CHECK",1]
["XXX",true,"2012-09-11","2012-09-11","TO CHECK",0]
["XXX",true,"2012-09-11","2012-09-11",null,0]
["XXX",true,"2012-09-11","2012-09-11",null,0]
["XXX",true,"2012-09-11","2012-09-11",null,0]
["XXX",true,"2012-09-10","2012-09-11",null,1]
["XXX",true,"2012-09-10","2012-09-11",null,1]
["XXX",true,"2012-09-10","2012-09-10",null,0]
["XXX",true,"2012-09-07","2012-09-10",null,3]
["XXX",true,"2012-09-06","2012-09-07",null,1]
["XXX",true,"2012-09-06","2012-09-07",null,1]
["XXX",true,"2012-09-06","2012-09-07",null,1]
["XXX",true,"2012-09-06","2012-09-06","TO CHECK",0]
["XXX",true,"2012-09-06","2012-09-10",null,4]
["XXX",true,"2012-09-06","2012-09-06",null,0]
["XXX",true,"2012-09-05","2012-09-10",null,5]
["XXX",true,"2012-09-05","2012-09-05",null,0]
["XXX",true,"2012-09-03","2012-09-06",null,3]
["XXX",true,"2012-09-01","2012-09-07","Dead",6]
["XXX",true,"2012-08-31","2012-09-05",null,5]
["XXX",true,"2012-08-30","2012-09-06","Dead",7]
["XXX",true,"2012-08-29","2012-09-05",null,7]
["XXX",true,"2012-08-23","2012-09-07","Dead",15]
["XXX",true,"2012-08-21","2012-09-12",null,22]
["XXX",true,"2012-08-20","2012-09-11","TO CHECK",22]
["XXX",true,"2012-05-21","2012-09-07","Dead",109]
["XXX",true,"2012-05-05","2012-09-07","Dead",125]
["XXX",true,"2012-03-21","2012-09-07","Dead",170]
["XXX",true,"2012-09-10","2012-09-10",null,0]
["XXX",true,"2013-03-01","2013-03-01",null,0]
["XXX",true,"2013-03-01","2013-03-01","TO CHECK",0]
["XXX",true,"2013-02-13","2013-02-19","TO CHECK",6]
["XXX",true,"2013-02-12","2013-02-12",null,0]
["XXX",true,"2013-02-11","2013-02-20","Dead",9]
["XXX",true,"2013-02-07","2013-02-08",null,1]
["XXX",true,"2013-02-06","2013-02-08",null,2]
["XXX",true,"2013-02-01","2013-02-08",null,7]
["XXX",true,"2013-02-01","2013-02-08",null,7]
["XXX",true,"2013-02-01","2013-02-08",null,7]
["XXX",true,"2013-02-01","2013-02-01","TO CHECK",0]
["XXX",true,"2013-01-31","2013-02-01","Dead",1]
["XXX",true,"2013-01-31","2013-01-31","TO CHECK",0]
["XXX",true,"2013-01-31","2013-01-31","TO CHECK",0]
["XXX",true,"2013-01-28","2013-01-28","TO CHECK",0]
["XXX",true,"2013-01-28","2013-01-31",null,3]
["XXX",true,"2013-01-25","2013-01-30",null,5]
["XXX",true,"2013-01-25","2013-01-28",null,3]
["XXX",true,"2013-01-25","2013-01-28",null,{"$f":"D77-C77","v":3}]
["XXX",true,"2012-12-27","2013-02-11","TO CHECK",46]
["XXX",true,"2012-12-27","2012-12-27","TO CHECK",0]
["XXX",true,"2012-12-25","2013-01-04",null,10]
["XXX",true,"2012-12-24","2013-01-30",null,37]
["XXX",true,"2012-12-22","2012-12-25",null,3]
["XXX",true,"2012-12-17","2013-01-31",null,45]
["XXX",true,"2012-12-13","2012-12-21","Dead",8]
["XXX",true,"2012-12-13","2012-12-13",null,0]
["XXX",true,"2012-12-11","2012-12-13","TO CHECK",2]
["XXX",true,"2012-12-10","2012-12-11","TO CHECK",1]
["XXX",true,"2012-12-10","2012-12-17","Dead",7]
["XXX",true,"2012-12-05","2012-12-10","Dead",5]
["XXX",true,"2012-12-05","2013-02-01",null,58]
["XXX",true,"2012-12-05","2012-12-05","TO CHECK",0]
["XXX",true,"2012-12-05","2012-12-24","TO CHECK",19]
["XXX",true,"2012-12-03","2012-12-10",null,7]
["XXX",true,"2012-11-30","2012-12-01",null,1]
["XXX",true,"2012-11-30","2013-01-25",null,56]
["XXX",true,"2012-11-30","2012-12-27","Dead",27]
["XXX",true,"2012-11-29","2012-12-10",null,11]
["XXX",true,"2012-11-29","2012-11-29","TO CHECK",0]
["XXX",true,"2012-11-26","2012-12-03","Dead",7]
["XXX",true,"2012-11-26","2012-12-10","Dead",14]
["XXX",true,"2012-11-26","2012-11-26","TO CHECK",0]
["XXX",true,"2012-11-26","2012-12-17","Dead",21]
["XXX",true,"2012-11-26","2012-11-28",null,2]
["XXX",true,"2012-11-19","2012-12-13",null,24]
["XXX",true,"2012-11-15","2012-12-21","Dead",36]
["XXX",true,"2012-11-15","2012-11-26","TO CHECK",11]
["XXX",true,"2012-11-14","2012-11-15",null,1]
["XXX",true,"2012-11-14","2013-01-25",null,72]
["XXX",true,"2012-11-08","2012-11-12",null,4]
["XXX",true,"2012-11-07","2012-11-12",null,5]
["XXX",true,"2012-11-02","2012-11-02","TO CHECK",0]
["XXX",true,"2012-11-02","2012-11-06","TO CHECK",4]
["XXX",true,"2012-11-02","2012-11-06",null,4]
["XXX",true,"2012-10-29","2012-11-06","Dead",8]
["XXX",true,"2012-10-29","2012-11-06",null,8]
["XXX",true,"2012-10-24","2012-11-12","Dead",19]
["XXX",true,"2012-10-24","2012-12-17","Dead",54]
["XXX",true,"2012-10-18","2012-10-19",null,1]
["XXX",true,"2012-10-15","2012-10-15","TO CHECK",0]
["XXX",true,"2012-10-12","2012-10-12",null,0]
["XXX",true,"2012-10-12","2012-10-19","TO CHECK",7]
["XXX",true,"2012-10-11","2012-10-12",null,1]
["XXX",true,"2012-10-15","2012-10-15",null,0]
["XXX",true,"2012-10-11","2012-10-12","TO CHECK",1]
["XXX",true,"2012-10-11","2012-10-11",null,0]
["XXX",true,"2012-10-11","2012-10-11",null,0]
["XXX",true,"2012-10-15","2012-10-15",null,0]
["XXX",true,"2012-10-11","2012-10-11",null,0]
["XXX",true,"2012-10-10","2012-10-10",null,0]
["XXX",true,"2012-10-10","2012-10-10",null,0]
["XXX",true,"2012-10-09","2012-10-11","Dead",2]
["XXX",true,"2012-10-09","2012-10-10",null,1]
["XXX",true,"2012-10-09","2012-10-09",null,0]
["XXX",true,"2012-10-08","2012-10-16","TO CHECK",8]
["XXX",true,"2012-10-08","2012-10-12",null,4]
["XXX",true,"2012-10-08","2012-10-10",null,2]
["XXX",true,"2012-10-08","2012-10-15",null,7]
["XXX",true,"2012-10-08","2012-11-23",null,46]
["XXX",true,"2012-10-08","2012-10-08",null,0]
["XXX",true,"2012-10-08","2012-10-08",null,0]
["XXX",true,"2012-10-07","2012-10-14",null,{"$f":"D141-C141","v":7}]
["XXX",true,"2012-10-05","2012-10-08",null,3]
["XXX",true,"2012-10-05","2012-10-10",null,5]
["XXX",true,"2012-10-05","2012-10-05",null,0]
["XXX",true,"2012-10-05","2012-10-18",null,13]
["XXX",true,"2012-10-05","2012-10-05","TO CHECK",0]
["XXX",true,"2012-10-05","2012-10-05","TO CHECK",0]
["XXX",true,"2012-10-05","2012-10-05",null,0]
["XXX",true,"2012-10-05","2012-10-05","TO CHECK",0]
["XXX",true,"2012-10-05","2012-10-11",null,6]
["XXX",true,"2012-10-05","2012-10-16","Dead; TO CHECK",11]
["XXX",true,"2012-10-04","2012-10-05",null,1]
["XXX",true,"2012-10-04","2012-10-04",null,0]
["XXX",true,"2012-10-03","2012-10-09",null,6]
["XXX",true,"2012-10-03","2012-10-12",null,9]
["XXX",true,"2012-10-02","2012-10-13",null,11]
["XXX",true,"2012-10-02","2012-10-10","Dead",8]
["XXX",true,"2012-10-02","2012-10-08",null,6]
["XXX",true,"2012-10-02","2012-10-10",null,8]
["XXX",true,"2012-10-02","2012-10-04",null,2]
["XXX",true,"2012-10-01","2012-10-02","TO CHECK",1]
["XXX",true,"2012-10-01","2012-10-09","TO CHECK",8]
["XXX",true,"2012-10-01","2012-10-01",null,0]
["XXX",true,"2012-10-01","2012-10-01",null,0]
["XXX",true,"2012-09-27","2012-09-27","TO CHECK",0]
["XXX",true,"2012-09-27","2012-09-27",null,0]
["XXX",true,"2012-09-27","2012-09-27",null,0]
["XXX",true,"2012-09-26","2012-09-27",null,1]
["XXX",true,"2012-09-26","2012-10-02",null,6]
["XXX",true,"2012-09-26","2012-09-27",null,1]
["XXX",true,"2012-09-26","2012-09-27",null,1]
["XXX",true,"2012-09-26","2012-10-01","TO CHECK",5]
["XXX",true,"2012-09-26","2012-12-17","Dead",82]
["XXX",true,"2012-09-26","2012-09-26",null,0]
["XXX",true,"2012-09-26","2012-09-27",null,1]
["XXX",true,"2012-09-25","2012-09-25",null,0]
["XXX",true,"2012-09-25","2012-09-26",null,1]
["XXX",true,"2012-09-24","2012-10-09",null,15]
["XXX",true,"2012-09-24","2012-10-16","Dead; TO CHECK",22]
["XXX",true,"2012-09-24","2012-10-16","Dead; TO CHECK",22]
["XXX",true,"2012-09-24","2012-10-08","TO CHECK",14]
["XXX",true,"2012-10-02","2012-10-02",null,0]
["XXX",true,"2012-10-12","2012-10-12",null,0]
["XXX",true,"2012-10-03","2012-10-03",null,0]
["XXX",true,"2012-10-01","2012-10-01",null,0]
["XXX",true,"2012-10-05","2012-10-05",null,0]
["XXX",true,"2012-10-04","2012-10-04",null,0]
["XXX",true,"2012-10-15","2012-10-15",null,0]
["XXX",true,"2012-09-28","2012-09-28",null,0]
["XXX",true,"2012-09-27","2012-09-27",null,0]
["XXX",true,"2012-10-09","2012-10-09",null,0]
["XXX",true,"2012-10-11","2012-10-11",null,0]
["XXX",true,"2012-09-24","2012-09-24",null,0]
["XXX",true,"2012-09-26","2012-09-26",null,0]
["XXX",true,"2012-10-08","2012-10-08",null,0]
["XXX",true,"2012-09-24","2012-09-26",null,2]
["XXX",true,"2012-09-24","2012-09-24",null,0]
["XXX",true,"2012-09-24","2012-10-05","Dead",11]
["XXX",true,"2012-09-24","2012-10-04",null,10]
["XXX",true,"2012-09-21","2012-09-21",null,0]
["XXX",true,"2012-09-21","2012-09-21",null,0]
["XXX",true,"2012-09-21","2012-09-26","TO CHECK",5]
["XXX",true,"2012-09-20","2012-09-21",null,1]
["XXX",true,"2012-09-20","2012-09-20",null,0]
["XXX",true,"2012-09-19","2012-09-20","TO CHECK",{"$f":"D205-C205","v":1}]
["XXX",true,"2012-09-17","2012-09-18",null,1]
["XXX",true,"2012-09-17","2012-09-18",null,1]
["XXX",true,"2012-09-14","2012-10-04",null,20]
["XXX",true,"2012-09-14","2012-09-18","TO CHECK",4]
["XXX",true,"2012-09-14","2012-09-20",null,6]
["XXX",true,"2012-09-13","2012-10-11",null,28]
["XXX",true,"2012-09-13","2012-09-21",null,8]
["XXX",true,"2012-09-13","2012-12-28","TO CHECK",106]
["XXX",true,"2012-09-13","2012-10-08","Dead",25]
["XXX",true,"2012-09-13","2012-09-14",null,1]
["XXX",true,"2012-09-12","2012-09-13",null,1]
["XXX",true,"2012-09-12","2012-09-21",null,9]
["XXX",true,"2012-09-12","2012-09-12",null,0]
["XXX",true,"2012-09-12","2012-09-12",null,0]
["XXX",true,"2012-09-11","2012-09-21",null,10]
["XXX",true,"2012-09-11","2012-09-27","Dead; TO CHECK",16]
["XXX",true,"2012-09-11","2012-09-12",null,1]
["XXX",true,"2012-09-11","2012-09-13",null,2]
["XXX",true,"2012-09-10","2012-09-24",null,14]
["XXX",true,"2012-09-07","2012-09-21",null,14]
["XXX",true,"2012-09-06","2012-09-20",null,14]
["XXX",true,"2012-09-02","2012-10-17",null,45]
["XXX",true,"2012-08-31","2012-09-25",null,25]
["XXX",true,"2012-08-29","2012-09-24","TO CHECK",26]
["XXX",true,"2012-08-24","2012-09-13","TO CHECK",20]
["XXX",true,"2012-08-22","2012-09-14","TO CHECK",23]
["XXX",true,"2012-08-21","2012-09-24","TO CHECK",34]
["XXX",true,"2012-08-10","2012-09-24","Dead",45]
["XXX",true,"2012-08-06","2012-09-24",null,49]
["XXX",true,"2012-08-01","2012-09-21","Dead",51]
["XXX",true,"2012-06-01","2012-09-19","TO CHECK",110]
["XXX",true,"2012-09-24","2012-09-24",null,0]
["XXX",true,"2012-10-10","2012-10-10",null,0]
["XXX",true,"2012-08-31","2012-09-24",null,24]
["XXX",true,"2012-09-28","2012-09-28",null,0]
["XXX",true,"2012-10-08","2012-10-08",null,0]
["XXX",true,"2012-09-24","2012-09-24",null,0]
["XXX",true,"2012-10-01","2012-10-01",null,0]
["XXX",true,"2012-10-29","2012-10-30",null,1]
["XXX",true,"2012-10-29","2012-10-31",null,2]
["XXX",true,"2012-10-29","2012-10-30",null,1]
["XXX",true,"2012-10-29","2012-10-29",null,0]
["XXX",true,"2012-10-28","2012-10-29",null,1]
["XXX",true,"2012-10-28","2012-10-28",null,0]
["XXX",true,"2012-10-28","2012-10-28",null,0]
["XXX",true,"2012-10-26","2012-10-29",null,3]
["XXX",true,"2012-10-25","2012-10-29","TO CHECK",4]
["XXX",true,"2012-10-24","2012-10-26",null,2]
["XXX",true,"2012-10-24","2012-10-24",null,0]
["XXX",true,"2012-10-24","2012-10-24",null,0]
["XXX",true,"2012-10-24","2012-10-26",null,2]
["XXX",true,"2012-10-24","2012-10-24",null,0]
["XXX",true,"2012-10-23","2012-10-25",null,2]
["XXX",true,"2012-10-18","2012-10-19",null,1]
["XXX",true,"2012-10-18","2012-10-29",null,11]
["XXX",true,"2012-10-17","2012-10-17","TO CHECK",0]
["XXX",true,"2012-10-16","2012-10-18",null,2]
["XXX",true,"2012-10-16","2012-10-18",null,2]
["XXX",true,"2012-10-15","2012-10-17",null,2]
["XXX",true,"2012-10-15","2012-10-26",null,11]
["XXX",true,"2012-10-15","2012-10-16",null,1]
["XXX",true,"2012-10-15","2012-10-18",null,3]
["XXX",true,"2012-10-15","2012-10-16",null,1]
["XXX",true,"2012-10-15","2012-10-19",null,{"$f":"D269-C269","v":4}]
["XXX",true,"2012-10-12","2012-10-16",null,4]
["XXX",true,"2012-10-12","2012-10-15",null,3]
["XXX",true,"2012-10-12","2012-10-18",null,6]
["XXX",true,"2012-10-24","2012-10-24",null,0]
["XXX",true,"2012-10-29","2012-10-29",null,0]
["XXX",true,"2012-10-08","2012-10-17",null,9]
["XXX",true,"2012-09-25","2012-10-16",null,21]
["XXX",true,"2012-10-19","2012-10-19",null,0]
["XXX",true,"2012-10-18","2012-10-18",null,0]
["XXX",true,"2012-10-25","2012-10-25",null,0]
["XXX",true,"2012-10-16","2012-10-16",null,0]
["XXX",true,"2012-10-29","2012-10-29",null,0]
["XXX",true,"2012-10-26","2012-10-26",null,0]
["XXX",true,"2012-10-25","2012-10-25",null,0]
["XXX",true,"2012-08-31","2012-10-26","TO CHECK",56]
["XXX",true,"2012-10-29","2012-10-31",null,2]
["XXX",true,"2012-10-29","2012-10-29",null,0]
["XXX",true,"2013-03-04","2013-03-05",null,1]
["XXX",true,"2013-03-04","2013-03-04","TO CHECK",0]
["XXX",true,"2013-03-01","2013-03-04",null,3]
["XXX",true,"2013-02-28","2013-02-28",null,0]
["XXX",true,"2013-02-28","2013-02-28",null,0]
["XXX",true,"2013-02-28","2013-02-28",null,0]
["XXX",true,"2013-02-28","2013-03-04",null,4]
["XXX",true,"2013-02-28","2013-02-28",null,0]
["XXX",true,"2013-02-27","2013-02-27",null,0]
["XXX",true,"2013-02-27","2013-02-27",null,0]
["XXX",true,"2013-02-27","2013-02-27",null,0]
["XXX",true,"2013-02-26","2013-02-27",null,1]
["XXX",true,"2013-02-26","2013-02-28","Личное",2]
["XXX",true,"2013-02-26","2013-02-26","Dead",0]
["XXX",true,"2013-02-25","2013-02-25",null,0]
["XXX",true,"2013-02-25","2013-02-25",null,0]
["XXX",true,"2013-02-25","2013-02-26",null,1]
["XXX",true,"2013-02-25","2013-02-27","Dead",2]
["XXX",true,"2013-02-25","2013-02-25","TO CHECK",0]
["XXX",true,"2013-02-23","2013-02-26",null,3]
["XXX",true,"2013-02-21","2013-02-22",null,1]
["XXX",true,"2013-02-21","2013-02-26","TO CHECK",5]
["XXX",true,"2013-02-21","2013-02-21",null,0]
["XXX",true,"2013-02-21","2013-02-21",null,0]
["XXX",true,"2013-02-21","2013-02-21",null,0]
["XXX",true,"2013-02-21","2013-02-21",null,0]
["XXX",true,"2013-02-21","2013-02-25","Dead",4]
["XXX",true,"2013-02-20","2013-02-27",null,7]
["XXX",true,"2013-02-19","2013-02-27","Dead",8]
["XXX",true,"2013-02-19","2013-02-21",null,2]
["XXX",true,"2013-02-19","2013-02-26",null,7]
["XXX",true,"2013-02-19","2013-02-20","Dead",1]
["XXX",true,"2013-02-19","2013-02-20",null,1]
["XXX",true,"2013-02-18","2013-02-18","TO CHECK",0]
["XXX",true,"2013-02-18","2013-02-19",null,1]
["XXX",true,"2013-02-18","2013-02-20","TO CHECK",2]
["XXX",true,"2013-02-18","2013-02-20",null,2]
["XXX",true,"2013-02-18","2013-02-20",null,2]
["XXX",true,"2013-02-18","2013-02-19",null,1]
["XXX",true,"2013-02-15","2013-02-20",null,5]
["XXX",true,"2013-02-15","2013-02-18",null,3]
["XXX",true,"2013-02-15","2013-02-20",null,5]
["XXX",true,"2013-02-15","2013-02-25",null,10]
["XXX",true,"2013-02-15","2013-02-19",null,4]
["XXX",true,"2013-02-15","2013-02-15",null,0]
["XXX",true,"2013-02-14","2013-02-15",null,1]
["XXX",true,"2013-02-14","2013-02-15",null,{"$f":"D333-C333","v":1}]
["XXX",true,"2013-02-14","2013-02-15",null,1]
["XXX",true,"2013-02-14","2013-02-20",null,6]
["XXX",true,"2013-02-14","2013-02-21",null,7]
["XXX",true,"2013-02-14","2013-02-15",null,1]
["XXX",true,"2013-02-14","2013-02-19",null,5]
["XXX",true,"2013-02-14","2013-02-15",null,1]
["XXX",true,"2013-02-14","2013-02-26",null,12]
["XXX",true,"2013-02-13","2013-02-14",null,1]
["XXX",true,"2013-02-13","2013-02-20","TO CHECK",7]
["XXX",true,"2013-02-13","2013-02-20","TO CHECK",7]
["XXX",true,"2013-02-13","2013-02-25",null,12]
["XXX",true,"2013-02-13","2013-02-19",null,6]
["XXX",true,"2013-02-13","2013-02-18","Dead",5]
["XXX",true,"2013-02-12","2013-02-13",null,1]
["XXX",true,"2013-02-12","2013-02-13",null,1]
["XXX",true,"2013-02-12","2013-02-13",null,1]
["XXX",true,"2013-02-12","2013-02-13",null,1]
["XXX",true,"2013-02-12","2013-02-13",null,1]
["XXX",true,"2013-02-12","2013-02-13",null,1]
["XXX",true,"2013-02-12","2013-02-12",null,0]
["XXX",true,"2013-02-12","2013-02-14",null,2]
["XXX",true,"2013-02-11","2013-02-12",null,1]
["XXX",true,"2013-02-11","2013-02-12",null,1]
["XXX",true,"2013-02-11","2013-02-12",null,1]
["XXX",true,"2013-02-08","2013-02-08",null,0]
["XXX",true,"2013-02-08","2013-02-11",null,3]
["XXX",true,"2013-02-07","2013-02-13",null,6]
["XXX",true,"2013-02-06","2013-02-12",null,6]
["XXX",true,"2013-02-05","2013-02-14",null,9]
["XXX",true,"2013-02-05","2013-02-13",null,8]
["XXX",true,"2013-02-05","2013-02-20",null,15]
["XXX",true,"2013-02-05","2013-02-13",null,8]
["XXX",true,"2013-02-05","2013-02-28","TO CHECK",23]
["XXX",true,"2013-02-05","2013-02-05",null,0]
["XXX",true,"2013-02-05","2013-02-05",null,0]
["XXX",true,"2013-02-04","2013-02-05",null,1]
["XXX",true,"2013-02-04","2013-02-08",null,4]
["XXX",true,"2013-02-01","2013-02-18",null,17]
["XXX",true,"2013-02-01","2013-02-04",null,3]
["XXX",true,"2013-02-01","2013-02-01",null,0]
["XXX",true,"2013-02-01","2013-02-01",null,0]
["XXX",true,"2013-02-01","2013-02-26","TO CHECK",25]
["XXX",true,"2013-01-31","2013-02-01",null,1]
["XXX",true,"2013-01-31","2013-02-01",null,1]
["XXX",true,"2013-01-30","2013-02-18",null,19]
["XXX",true,"2013-01-30","2013-01-31",null,1]
["XXX",true,"2013-01-30","2013-01-31",null,1]
["XXX",true,"2013-01-30","2013-02-12",null,13]
["XXX",true,"2013-01-30","2013-02-01",null,2]
["XXX",true,"2013-01-30","2013-01-31",null,1]
["XXX",true,"2013-01-25","2013-02-20","Dead",26]
["XXX",true,"2013-01-25","2013-02-27","Личное",33]
["XXX",true,"2013-01-25","2013-02-25",null,31]
["XXX",true,"2012-12-31","2012-12-31",null,0]
["XXX",true,"2012-12-31","2012-12-31",null,0]
["XXX",true,"2012-12-29","2013-02-25","TO CHECK",58]
["XXX",true,"2012-12-28","2012-12-29",null,1]
["XXX",true,"2012-12-27","2012-12-28",null,1]
["XXX",true,"2012-12-27","2012-12-28",null,1]
["XXX",true,"2012-12-27","2012-12-28",null,1]
["XXX",true,"2012-12-26","2012-12-27",null,1]
["XXX",true,"2012-12-26","2012-12-27","Dead",1]
["XXX",true,"2012-12-26","2012-12-26",null,0]
["XXX",true,"2012-12-26","2012-12-26",null,{"$f":"D397-C397","v":0}]
["XXX",true,"2012-12-26","2013-01-04",null,9]
["XXX",true,"2012-12-26","2012-12-27",null,1]
["XXX",true,"2012-12-25","2012-12-27","Dead",2]
["XXX",true,"2012-12-25","2012-12-25",null,0]
["XXX",true,"2012-12-25","2012-12-25",null,0]
["XXX",true,"2012-12-25","2012-12-25",null,0]
["XXX",true,"2012-12-25","2012-12-26",null,1]
["XXX",true,"2012-12-25","2012-12-25",null,0]
["XXX",true,"2012-12-24","2012-12-25",null,1]
["XXX",true,"2012-12-24","2012-12-25",null,1]
["XXX",true,"2012-12-24","2012-12-27",null,3]
["XXX",true,"2012-12-20","2012-12-22",null,2]
["XXX",true,"2012-12-20","2012-12-27","Dead",7]
["XXX",true,"2012-12-20","2012-12-20",null,0]
["XXX",true,"2012-12-20","2012-12-21",null,1]
["XXX",true,"2012-12-19","2012-12-20",null,1]
["XXX",true,"2012-12-19","2012-12-28",null,9]
["XXX",true,"2012-12-19","2012-12-27",null,8]
["XXX",true,"2012-12-19","2012-12-21",null,2]
["XXX",true,"2012-12-19","2012-12-21",null,2]
["XXX",true,"2012-12-19","2012-12-21","TO CHECK",2]
["XXX",true,"2012-12-19","2012-12-27","Dead",8]
["XXX",true,"2012-12-18","2012-12-21","Dead",3]
["XXX",true,"2012-12-18","2012-12-18",null,0]
["XXX",true,"2012-12-18","2012-12-18",null,0]
["XXX",true,"2012-12-18","2012-12-18",null,0]
["XXX",true,"2012-12-17","2012-12-20","Dead",3]
["XXX",true,"2012-12-17","2012-12-29",null,12]
["XXX",true,"2012-12-17","2012-12-18",null,1]
["XXX",true,"2012-12-17","2012-12-17",null,0]
["XXX",true,"2012-12-17","2012-12-19","TO CHECK",2]
["XXX",true,"2012-12-14","2012-12-17",null,3]
["XXX",true,"2012-12-14","2012-12-28","Dead",14]
["XXX",true,"2012-12-14","2012-12-18",null,4]
["XXX",true,"2012-12-13","2012-12-17",null,4]
["XXX",true,"2012-12-13","2012-12-13",null,0]
["XXX",true,"2012-12-13","2012-12-12",null,-1]
["XXX",true,"2012-12-12","2012-12-18","TO CHECK",6]
["XXX",true,"2012-12-12","2012-12-17","TO CHECK",5]
["XXX",true,"2012-12-12","2012-12-13",null,1]
["XXX",true,"2012-12-12","2012-12-12",null,0]
["XXX",true,"2012-12-11","2012-12-17","TO CHECK",6]
["XXX",true,"2012-12-11","2012-12-11",null,0]
["XXX",true,"2012-12-11","2012-12-13",null,2]
["XXX",true,"2012-12-11","2012-12-11",null,0]
["XXX",true,"2012-12-11","2012-12-11",null,0]
["XXX",true,"2012-12-11","2012-12-18","TO CHECK",7]
["XXX",true,"2012-12-11","2012-12-12",null,1]
["XXX",true,"2012-12-11","2013-02-13",null,64]
["XXX",true,"2012-12-10","2012-12-18",null,8]
["XXX",true,"2012-12-10","2012-12-10",null,0]
["XXX",true,"2012-12-10","2012-12-13",null,3]
["XXX",true,"2012-12-10","2012-12-13",null,3]
["XXX",true,"2012-12-10","2012-12-12",null,2]
["XXX",true,"2012-12-07","2012-12-11","TO CHECK",4]
["XXX",true,"2012-12-06","2012-12-07",null,1]
["XXX",true,"2012-12-06","2012-12-10",null,4]
["XXX",true,"2012-12-06","2012-12-11",null,5]
["XXX",true,"2012-12-05","2012-12-06",null,1]
["XXX",true,"2012-12-05","2012-12-21","TO CHECK",16]
["XXX",true,"2012-12-05","2012-12-05","TO CHECK",0]
["XXX",true,"2012-12-05","2012-12-12",null,7]
["XXX",true,"2012-12-05","2012-12-05",null,0]
["XXX",true,"2012-12-05","2012-12-05","TO CHECK",{"$f":"D461-C461","v":0}]
["XXX",true,"2012-12-05","2012-12-05",null,0]
["XXX",true,"2012-12-05","2012-12-05","TO CHECK",0]
["XXX",true,"2012-12-05","2012-12-13",null,8]
["XXX",true,"2012-12-05","2012-12-12","Dead",7]
["XXX",true,"2012-12-05","2012-12-05",null,0]
["XXX",true,"2012-12-04","2012-12-12",null,8]
["XXX",true,"2012-12-04","2012-12-04",null,0]
["XXX",true,"2012-12-03","2012-12-07",null,4]
["XXX",true,"2012-12-03","2012-12-12",null,9]
["XXX",true,"2012-12-03","2012-12-04",null,1]
["XXX",true,"2012-11-30","2012-12-03",null,3]
["XXX",true,"2012-11-30","2012-12-06",null,6]
["XXX",true,"2012-11-30","2012-12-05",null,5]
["XXX",true,"2012-11-29","2012-11-30",null,1]
["XXX",true,"2012-11-29","2012-12-04","TO CHECK",5]
["XXX",true,"2012-11-29","2012-12-12","TO CHECK",13]
["XXX",true,"2012-11-29","2012-12-11","TO CHECK",12]
["XXX",true,"2012-11-29","2012-12-03",null,4]
["XXX",true,"2012-11-29","2012-12-19","TO CHECK",20]
["XXX",true,"2012-11-29","2012-12-03",null,4]
["XXX",true,"2012-11-28","2012-11-30",null,2]
["XXX",true,"2012-11-28","2012-11-29","Dead; TO CHECK",1]
["XXX",true,"2012-11-28","2012-11-30",null,2]
["XXX",true,"2012-11-28","2012-11-29",null,1]
["XXX",true,"2012-11-28","2012-11-29",null,1]
["XXX",true,"2012-11-28","2012-12-03",null,5]
["XXX",true,"2012-11-28","2012-11-29",null,1]
["XXX",true,"2012-11-28","2012-11-28",null,0]
["XXX",true,"2012-11-28","2012-11-30",null,2]
["XXX",true,"2012-11-28","2012-12-17",null,19]
["XXX",true,"2012-11-27","2012-11-28",null,1]
["XXX",true,"2012-11-26","2012-11-29",null,3]
["XXX",true,"2012-11-26","2012-11-29",null,3]
["XXX",true,"2012-11-26","2012-12-05","TO CHECK",9]
["XXX",true,"2012-11-26","2012-12-05","TO CHECK",9]
["XXX",true,"2012-11-26","2012-12-05","TO CHECK",9]
["XXX",true,"2012-11-26","2012-11-27",null,1]
["XXX",true,"2012-11-26","2012-11-26",null,0]
["XXX",true,"2012-11-26","2012-11-29","TO CHECK",3]
["XXX",true,"2012-11-26","2012-11-29",null,3]
["XXX",true,"2012-11-26","2012-11-26",null,0]
["XXX",true,"2012-11-26","2012-11-26",null,0]
["XXX",true,"2012-12-03","2012-12-03",null,0]
["XXX",true,"2012-11-30","2012-11-30",null,0]
["XXX",true,"2012-12-10","2012-12-10",null,0]
["XXX",true,"2012-12-07","2012-12-07",null,0]
["XXX",true,"2012-12-06","2012-12-06",null,0]
["XXX",true,"2012-11-26","2012-11-29",null,3]
["XXX",true,"2012-11-26","2012-12-17","Dead",21]
["XXX",true,"2012-11-26","2012-12-17",null,21]
["XXX",true,"2012-11-25","2012-11-25",null,0]
["XXX",true,"2012-11-25","2012-12-12","TO CHECK",17]
["XXX",true,"2012-11-23","2012-11-29",null,6]
["XXX",true,"2012-11-23","2012-11-26",null,3]
["XXX",true,"2012-11-23","2012-11-26",null,3]
["XXX",true,"2012-11-23","2012-11-23",null,0]
["XXX",true,"2012-11-23","2012-11-23",null,0]
["XXX",true,"2012-11-22","2012-11-26",null,4]
["XXX",true,"2012-11-22","2012-11-29",null,7]
["XXX",true,"2012-11-22","2012-11-23",null,1]
["XXX",true,"2012-11-22","2012-11-22",null,0]
["XXX",true,"2012-11-21","2012-11-22",null,1]
["XXX",true,"2012-11-21","2012-12-10",null,19]
["XXX",true,"2012-11-21","2012-11-23",null,{"$f":"D525-C525","v":2}]
["XXX",true,"2012-11-21","2012-11-22",null,1]
["XXX",true,"2012-11-21","2012-11-21",null,0]
["XXX",true,"2012-11-20","2012-11-26",null,6]
["XXX",true,"2012-11-20","2012-11-26","Dead",6]
["XXX",true,"2012-11-20","2012-11-22",null,2]
["XXX",true,"2012-11-20","2012-11-26",null,6]
["XXX",true,"2012-11-19","2012-11-19",null,0]
["XXX",true,"2012-11-19","2012-11-20",null,1]
["XXX",true,"2012-11-19","2012-11-19",null,0]
["XXX",true,"2012-11-19","2012-11-19",null,0]
["XXX",true,"2012-11-15","2012-11-15","Dead",0]
["XXX",true,"2012-11-15","2012-11-21","TO CHECK",6]
["XXX",true,"2012-11-15","2012-11-15",null,0]
["XXX",true,"2012-11-15","2012-11-17",null,2]
["XXX",true,"2012-11-15","2012-11-15",null,0]
["XXX",true,"2012-11-14","2012-11-17",null,3]
["XXX",true,"2012-11-14","2012-11-20",null,6]
["XXX",true,"2012-11-14","2012-12-04",null,20]
["XXX",true,"2012-11-14","2012-11-21",null,7]
["XXX",true,"2012-11-14","2012-11-19","TO CHECK",5]
["XXX",true,"2012-11-14","2012-11-21",null,7]
["XXX",true,"2012-11-14","2012-11-14",null,0]
["XXX",true,"2012-11-13","2012-11-29",null,16]
["XXX",true,"2012-11-13","2012-11-14",null,1]
["XXX",true,"2012-11-13","2012-11-14",null,1]
["XXX",true,"2012-11-12","2012-11-13",null,1]
["XXX",true,"2012-11-12","2012-11-12",null,0]
["XXX",true,"2012-11-12","2012-11-15","TO CHECK",3]
["XXX",true,"2012-11-12","2012-11-15",null,3]
["XXX",true,"2012-11-12","2012-11-17",null,5]
["XXX",true,"2012-11-12","2012-11-15",null,3]
["XXX",true,"2012-11-12","2012-11-12",null,0]
["XXX",true,"2012-11-12","2012-11-12",null,0]
["XXX",true,"2012-11-09","2012-11-12",null,3]
["XXX",true,"2012-11-09","2012-11-12",null,3]
["XXX",true,"2012-11-08","2012-11-08",null,0]
["XXX",true,"2012-11-07","2012-11-13",null,6]
["XXX",true,"2012-11-07","2012-11-07",null,0]
["XXX",true,"2012-11-06","2012-11-07",null,1]
["XXX",true,"2012-11-06","2012-11-07",null,1]
["XXX",true,"2012-11-06","2012-11-07",null,1]
["XXX",true,"2012-11-06","2012-11-12",null,6]
["XXX",true,"2012-11-06","2012-11-13",null,7]
["XXX",true,"2012-11-06","2012-11-07",null,1]
["XXX",true,"2012-11-06","2012-11-13",null,7]
["XXX",true,"2012-11-06","2012-11-06",null,0]
["XXX",true,"2012-11-05","2012-11-06",null,1]
["XXX",true,"2012-11-05","2012-11-07",null,2]
["XXX",true,"2012-11-02","2012-11-07",null,5]
["XXX",true,"2012-11-02","2012-11-02",null,0]
["XXX",true,"2012-11-01","2012-11-01",null,0]
["XXX",true,"2012-10-31","2012-11-06",null,6]
["XXX",true,"2012-10-31","2012-10-31",null,0]
["XXX",true,"2012-10-31","2012-10-31",null,0]
["XXX",true,"2012-10-31","2012-11-29",null,29]
["XXX",true,"2012-10-31","2012-11-02",null,2]
["XXX",true,"2012-11-20","2012-11-20",null,0]
["XXX",true,"2012-11-14","2012-11-14",null,0]
["XXX",true,"2012-11-19","2012-11-19",null,0]
["XXX",true,"2012-11-06","2012-11-06",null,0]
["XXX",true,"2012-11-30","2012-11-30",null,0]
["XXX",true,"2012-11-08","2012-11-08",null,0]
["XXX",true,"2012-12-05","2012-12-05",null,0]
["XXX",true,"2012-11-21","2012-11-21",null,{"$f":"D589-C589","v":0}]
["XXX",true,"2012-12-06","2012-12-06",null,0]
["XXX",true,"2012-10-30","2012-11-02","TO CHECK",3]
["XXX",true,"2012-10-29","2012-10-31",null,2]
["XXX",true,"2012-10-26","2012-10-31",null,5]
["XXX",true,"2012-10-17","2012-11-08","Dead",22]
["XXX",true,"2012-10-15","2012-10-31","Dead",16]
["XXX",true,"2012-10-15","2012-11-02","Dead",18]
["XXX",true,"2013-02-25","2013-02-25",null,0]
["XXX",true,"2012-11-12","2012-11-12",null,0]
["XXX",true,"2013-02-11","2013-02-11",null,0]
["XXX",true,"2013-01-25","2013-01-25",null,0]
["XXX",true,"2013-01-25","2013-01-25",null,0]
["XXX",true,"2013-01-25","2013-01-25",null,0]
["XXX",true,"2012-12-24","2012-12-24",null,0]
["XXX",true,"2012-12-17","2012-12-17",null,0]
["XXX",true,"2013-01-30","2013-01-30",null,0]
["XXX",true,"2013-03-04","2013-03-04",null,0]
["XXX",true,"2012-12-10","2012-12-10",null,0]
["XXX",true,"2012-11-26","2012-11-26",null,0]
["XXX",true,"2012-12-03","2012-12-03",null,0]
["XXX",true,"2013-02-18","2013-02-18",null,0]
["XXX",true,"2013-02-04","2013-02-04",null,0]
["XXX",true,"2012-11-06","2012-11-06",null,0]
["XXX",true,"2012-11-19","2012-11-19",null,0]
["XXX",true,"2012-10-08","2012-11-26",null,49]
["XXX",true,"2012-09-26","2012-11-01",null,36]
["XXX",true,"2012-09-24","2012-11-06",null,43]
["XXX",true,"2012-11-02","2012-11-02",null,0]
["XXX",true,"2012-09-14","2012-11-06","TO CHECK",53]
["XXX",true,"2013-01-25","2013-01-25",null,0]
["XXX",true,"2012-11-12","2012-11-23",null,11]
["XXX",true,"2012-12-10","2012-12-10",null,0]
["XXX",true,"2013-01-28","2013-01-31",null,3]
["XXX",true,"2012-12-19","2012-12-19",null,0]
["XXX",true,"2013-02-28","2013-02-28",null,0]
["XXX",true,"2012-11-28","2012-11-30",null,2]
["XXX",true,"2013-01-28","2013-01-28",null,0]
["XXX",true,"2012-12-27","2013-01-04",null,8]
["XXX",true,"2012-11-26","2012-11-26",null,0]
["XXX",true,"2013-03-06","2013-04-08","Dead; Личное",33]
["XXX",true,"2013-03-06","2013-03-07",null,1]
["XXX",true,"2013-03-07","2013-03-13",null,6]
["XXX",true,"2013-03-07","2013-03-07",null,0]
["XXX",true,"2013-03-07","2013-05-13","TO CHECK",67]
["XXX",true,"2013-03-07","2013-03-25",null,18]
["XXX",true,"2013-03-11","2013-03-13",null,2]
["XXX",true,"2013-03-11","2013-05-29","Dead",79]
["XXX",true,"2013-03-12","2013-03-20","TO CHECK",8]
["XXX",true,"2013-03-13","2013-03-13",null,0]
["XXX",true,"2013-03-13","2013-03-13","Dead",0]
["XXX",true,"2013-03-13","2013-03-13","Личное",0]
["XXX",true,"2013-03-13","2013-03-20","Dead",7]
["XXX",true,"2013-03-13","2013-03-19",null,6]
["XXX",true,"2013-03-13","2013-03-13",null,0]
["XXX",true,"2013-03-13","2013-03-15",null,2]
["XXX",true,"2013-03-13","2013-03-13",null,0]
["XXX",true,"2013-03-13","2013-03-26","TO CHECK",13]
["XXX",true,"2013-03-14","2013-03-20","Личное",6]
["XXX",true,"2013-03-14","2013-03-20","TO CHECK",6]
["XXX",true,"2013-03-14","2013-03-20","Dead; TO CHECK",6]
["XXX",true,"2013-03-15","2013-03-19",null,4]
["XXX",true,"2013-03-15","2013-03-19",null,4]
["XXX",true,"2013-03-15","2013-03-19",null,4]
["XXX",true,"2013-03-19","2013-03-19",null,{"$f":"D653-C653","v":0}]
["XXX",true,"2013-03-19","2013-03-19","Личное",0]
["XXX",true,"2013-03-19","2013-03-27",null,8]
["XXX",true,"2013-03-20","2013-03-26","TO CHECK",6]
["XXX",true,"2013-03-20","2013-05-13","Dead",54]
["XXX",true,"2013-03-20","2013-03-26",null,6]
["XXX",true,"2013-03-20","2013-03-21",null,1]
["XXX",true,"2013-03-21","2013-03-21",null,0]
["XXX",true,"2013-03-21","2013-03-25",null,4]
["XXX",true,"2013-03-21","2013-05-13",null,53]
["XXX",true,"2013-03-22","2013-03-26",null,4]
["XXX",true,"2013-03-22","2013-04-02","TO CHECK",11]
["XXX",true,"2013-03-22","2013-04-04",null,13]
["XXX",true,"2013-03-25","2013-03-26",null,1]
["XXX",true,"2013-03-25","2013-03-25",null,0]
["XXX",true,"2013-03-25","2013-03-27",null,2]
["XXX",true,"2013-03-25","2013-03-26",null,1]
["XXX",true,"2013-03-25","2013-03-27","TO CHECK",2]
["XXX",true,"2013-03-25","2013-03-25",null,0]
["XXX",true,"2013-03-26","2013-03-26","TO CHECK",0]
["XXX",true,"2013-03-26","2013-03-28",null,2]
["XXX",true,"2013-03-26","2013-05-13","TO CHECK",48]
["XXX",true,"2013-03-26","2013-03-28",null,2]
["XXX",true,"2013-03-27","2013-03-27",null,0]
["XXX",true,"2013-03-27","2013-04-08",null,12]
["XXX",true,"2013-03-27","2013-05-13",null,47]
["XXX",true,"2013-03-28","2013-03-28",null,0]
["XXX",true,"2013-03-28","2013-03-28",null,0]
["XXX",true,"2013-03-28","2013-05-16",null,49]
["XXX",true,"2013-03-28","2013-04-02","TO CHECK",5]
["XXX",true,"2013-04-01","2013-04-09",null,8]
["XXX",true,"2013-04-02","2013-04-02",null,0]
["XXX",true,"2013-04-02","2013-04-02",null,0]
["XXX",true,"2013-04-02","2013-05-13",null,41]
["XXX",true,"2013-04-02","2013-04-02",null,0]
["XXX",true,"2013-04-02","2013-04-02",null,0]
["XXX",true,"2013-04-02","2013-04-02",null,0]
["XXX",true,"2013-04-02","2013-04-02",null,0]
["XXX",true,"2013-04-02","2013-04-04","TO CHECK",2]
["XXX",true,"2013-04-02","2013-04-08","TO CHECK",6]
["XXX",true,"2013-04-02","2013-04-09","TO CHECK",7]
["XXX",true,"2013-04-03","2013-04-05",null,2]
["XXX",true,"2013-04-03","2013-04-09",null,6]
["XXX",true,"2013-04-05","2013-04-10","TO CHECK",5]
["XXX",true,"2013-04-05","2013-04-08",null,3]
["XXX",true,"2013-04-08","2013-04-08",null,0]
["XXX",true,"2013-04-08","2013-04-08",null,0]
["XXX",true,"2013-04-08","2013-04-11",null,3]
["XXX",true,"2013-04-09","2013-04-12",null,3]
["XXX",true,"2013-04-09","2013-04-09",null,0]
["XXX",true,"2013-04-09","2013-04-16","TO CHECK",7]
["XXX",true,"2013-04-09","2013-06-03",null,55]
["XXX",true,"2013-04-10","2013-04-15","TO CHECK",5]
["XXX",true,"2013-04-15","2013-04-17",null,2]
["XXX",true,"2013-04-15","2013-04-15",null,0]
["XXX",true,"2013-04-15","2013-05-14",null,29]
["XXX",true,"2013-04-15","2013-04-15",null,0]
["XXX",true,"2013-04-15","2013-04-17",null,2]
["XXX",true,"2013-04-15","2013-04-17",null,2]
["XXX",true,"2013-04-15","2013-04-15",null,0]
["XXX",true,"2013-04-15","2013-04-17",null,2]
["XXX",true,"2013-04-15","2013-04-18",null,3]
["XXX",true,"2013-04-16","2013-04-17",null,1]
["XXX",true,"2013-04-16","2013-04-17",null,1]
["XXX",true,"2013-04-16","2013-04-17","TO CHECK",{"$f":"D717-C717","v":1}]
["XXX",true,"2013-04-17","2013-04-17",null,0]
["XXX",true,"2013-04-17","2013-04-18",null,1]
["XXX",true,"2013-04-17","2013-04-17",null,0]
["XXX",true,"2013-04-17","2013-05-13",null,26]
["XXX",true,"2013-04-17","2013-05-21","TO CHECK",34]
["XXX",true,"2013-04-17","2013-05-29",null,42]
["XXX",true,"2013-04-17","2013-05-13","TO CHECK",26]
["XXX",true,"2013-04-17","2013-05-22",null,35]
["XXX",true,"2013-04-18","2013-04-18",null,0]
["XXX",true,"2013-04-20","2013-05-16",null,26]
["XXX",true,"2013-04-20","2013-05-28","TO CHECK",38]
["XXX",true,"2013-05-13","2013-05-13",null,0]
["XXX",true,"2013-05-13","2013-05-13",null,0]
["XXX",true,"2013-05-13","2013-05-13",null,0]
["XXX",true,"2013-05-13","2013-05-13",null,0]
["XXX",true,"2013-05-13","2013-05-13",null,0]
["XXX",true,"2013-05-13","2013-05-20",null,7]
["XXX",true,"2013-05-13","2013-05-14","TO CHECK",1]
["XXX",true,"2013-05-13","2013-05-30",null,17]
["XXX",true,"2013-05-13","2013-05-27","TO CHECK",14]
["XXX",true,"2013-05-13","2013-05-15","TO CHECK",2]
["XXX",true,"2013-05-13","2013-05-15",null,2]
["XXX",true,"2013-05-13","2013-05-30","TO CHECK",17]
["XXX",true,"2013-05-13","2013-05-13",null,0]
["XXX",true,"2013-05-13","2013-05-16","TO CHECK",3]
["XXX",true,"2013-05-13","2013-05-20",null,7]
["XXX",true,"2013-05-14","2013-05-23",null,9]
["XXX",true,"2013-05-14","2013-06-13","Dead; TO CHECK",30]
["XXX",true,"2013-05-14","2013-05-23","TO CHECK",9]
["XXX",true,"2013-05-15","2013-05-16",null,1]
["XXX",true,"2013-05-15","2013-05-16","TO CHECK",1]
["XXX",true,"2013-05-15","2013-05-17","TO CHECK",2]
["XXX",true,"2013-05-16","2013-05-16","TO CHECK",0]
["XXX",true,"2013-05-16","2013-05-20","TO CHECK",4]
["XXX",true,"2013-05-16","2013-05-31",null,15]
["XXX",true,"2013-05-16","2013-06-13","Dead; TO CHECK",28]
["XXX",true,"2013-05-16","2013-05-29",null,13]
["XXX",true,"2013-05-16","2013-06-17","Dead; TO CHECK",32]
["XXX",true,"2013-05-16","2013-05-20",null,4]
["XXX",true,"2013-05-20","2013-05-20",null,0]
["XXX",true,"2013-05-20","2013-05-21",null,1]
["XXX",true,"2013-05-20","2013-05-20",null,0]
["XXX",true,"2013-05-20","2013-05-21","TO CHECK",1]
["XXX",true,"2013-05-20","2013-06-18","Dead; TO CHECK",29]
["XXX",true,"2013-05-20","2013-05-20",null,0]
["XXX",true,"2013-05-20","2013-05-30","Dead; TO CHECK",10]
["XXX",true,"2013-05-20","2013-05-23","Dead",3]
["XXX",true,"2013-05-20","2013-05-23",null,3]
["XXX",true,"2013-05-20","2013-05-23",null,3]
["XXX",true,"2013-05-21","2013-06-17",null,27]
["XXX",true,"2013-05-21","2013-05-28","TO CHECK",7]
["XXX",true,"2013-05-21","2013-05-30","Dead; TO CHECK",9]
["XXX",true,"2013-05-22","2013-05-28",null,6]
["XXX",true,"2013-05-23","2013-05-30","TO CHECK",7]
["XXX",true,"2013-05-23","2013-05-24",null,1]
["XXX",true,"2013-05-23","2013-05-31",null,8]
["XXX",true,"2013-05-24","2013-05-29",null,5]
["XXX",true,"2013-05-26","2013-05-27",null,1]
["XXX",true,"2013-05-26","2013-05-29",null,3]
["XXX",true,"2013-05-27","2013-05-30",null,3]
["XXX",true,"2013-05-27","2013-06-17","Dead",21]
["XXX",true,"2013-05-28","2013-05-28",null,0]
["XXX",true,"2013-05-28","2013-05-31",null,3]
["XXX",true,"2013-05-28","2013-05-29",null,{"$f":"D781-C781","v":1}]
["XXX",true,"2013-05-28","2013-06-03",null,6]
["XXX",true,"2013-05-28","2013-06-06","Dead",9]
["XXX",true,"2013-05-28","2013-06-03","Dead",6]
["XXX",true,"2013-05-28","2013-05-28",null,0]
["XXX",true,"2013-05-28","2013-05-28",null,0]
["XXX",true,"2013-05-28","2013-06-17","Dead",20]
["XXX",true,"2013-05-28","2013-05-28",null,0]
["XXX",true,"2013-05-29","2013-06-03",null,5]
["XXX",true,"2013-05-29","2013-06-03",null,5]
["XXX",true,"2013-05-29","2013-05-29",null,0]
["XXX",true,"2013-05-29","2013-06-13","TO CHECK",15]
["XXX",true,"2013-05-30","2013-06-18","TO CHECK",19]
["XXX",true,"2013-05-30","2013-06-03","TO CHECK",4]
["XXX",true,"2013-05-30","2013-06-10",null,11]
["XXX",true,"2013-05-30","2013-05-30",null,0]
["XXX",true,"2013-05-30","2013-06-03",null,4]
["XXX",true,"2013-05-30","2013-06-05","TO CHECK",6]
["XXX",true,"2013-05-31","2013-06-17","Dead",17]
["XXX",true,"2013-06-03","2013-06-03",null,0]
["XXX",true,"2013-06-03","2013-06-03",null,0]
["XXX",true,"2013-06-03","2013-06-03",null,0]
["XXX",true,"2013-06-03","2013-06-05","TO CHECK",2]
["XXX",true,"2013-06-03","2013-06-06",null,3]
["XXX",true,"2013-06-03","2013-06-11",null,8]
["XXX",true,"2013-06-03","2013-06-07","TO CHECK",4]
["XXX",true,"2013-06-03","2013-06-13",null,10]
["XXX",true,"2013-06-03","2013-06-03","TO CHECK",0]
["XXX",true,"2013-06-03","2013-06-03",null,0]
["XXX",false,"2013-06-03",null,"TO CHECK",{"$f":"TODAY()-C810","v":547}]
["XXX",true,"2013-06-03","2013-06-03",null,{"$f":"D811-C811","v":0}]
["XXX",true,"2013-06-03","2013-06-06",null,3]
["XXX",true,"2013-06-05","2013-06-13",null,8]
["XXX",true,"2013-06-05","2013-06-06",null,1]
["XXX",true,"2013-06-06","2013-06-06",null,0]
["XXX",true,"2013-06-06","2013-06-06","TO CHECK",0]
["XXX",true,"2013-06-06","2013-06-10","TO CHECK",4]
["XXX",true,"2013-06-07","2013-06-10",null,3]
["XXX",false,"2013-06-07",null,null,{"$f":"TODAY()-C819","v":543}]
["XXX",true,"2013-06-07","2013-06-13",null,{"$f":"D820-C820","v":6}]
["XXX",true,"2013-06-07","2013-06-10",null,{"$f":"D821-C821","v":3}]
["XXX",true,"2013-06-07","2013-06-11","TO CHECK",{"$f":"D822-C822","v":4}]
["XXX",true,"2013-06-07","2013-06-07","TO CHECK",{"$f":"D823-C823","v":0}]
["XXX",true,"2013-06-07","2013-06-14","TO CHECK",{"$f":"D824-C824","v":7}]
["XXX",false,"2013-06-07",null,"TO CHECK",{"$f":"TODAY()-C825","v":543}]
["XXX",false,"2013-06-07",null,"TO CHECK",{"$f":"TODAY()-C826","v":543}]
["XXX",true,"2013-06-07","2013-06-10",null,{"$f":"D827-C827","v":3}]
["XXX",true,"2013-06-10","2013-06-11",null,{"$f":"D828-C828","v":1}]
["XXX",true,"2013-06-10","2013-06-10",null,{"$f":"D829-C829","v":0}]
["XXX",true,"2013-06-11","2013-06-13","TO CHECK",{"$f":"D830-C830","v":2}]
["XXX",true,"2013-06-13","2013-06-14","TO CHECK",{"$f":"D831-C831","v":1}]
["XXX",false,"2013-06-13",null,"TO CHECK",{"$f":"TODAY()-C832","v":537}]
["XXX",true,"2013-06-13","2013-06-14","TO CHECK",{"$f":"D833-C833","v":1}]
["XXX",false,"2013-06-14",null,"TO CHECK",{"$f":"TODAY()-C834","v":536}]
["XXX",true,"2013-06-14","2013-06-14",null,{"$f":"D835-C835","v":0}]
["XXX",true,"2013-06-17","2013-06-18","TO CHECK",{"$f":"D836-C836","v":1}]
["XXX",true,"2013-06-17","2013-06-18",null,{"$f":"D837-C837","v":1}]
["XXX",true,"2013-06-18","2013-06-19","TO CHECK",{"$f":"D838-C838","v":1}]
["XXX",false,"2013-06-18",null,"TO CHECK",{"$f":"TODAY()-C839","v":532}]
["XXX",true,"2013-06-19","2013-06-20",null,{"$f":"D840-C840","v":1}]
["XXX",false,"2013-06-23",null,null,{"$f":"TODAY()-C841","v":527}]
["XXX",false,"2013-06-24",null,null,{"$f":"TODAY()-C842","v":526}]

{"sheet":"MeetingRawData","index":3,"n_rows":418,"n_cols":3,"rows_kept":418,"cut":false,"hidden":false,"merged":[]}
["Subject","Start Time","Duration"]
["ХХХ","2012-06-25T17:30:00",0.5]
["ХХХ","2012-06-25T18:00:00",0.5]
["ХХХ","2012-06-27T16:00:00",0.5]
["ХХХ","2012-06-28T12:00:00",0.5]
["ХХХ","2012-06-28T12:30:00",0.5]
["ХХХ","2012-06-28T13:00:00",0.5]
["ХХХ","2012-06-28T14:00:00",0.5]
["ХХХ","2012-06-28T17:00:00",0.5]
["ХХХ","2012-06-29T12:30:00",0.5]
["ХХХ","2012-06-29T15:30:00",0.5]
["ХХХ","2012-06-29T16:00:00",0.5]
["ХХХ","2012-07-03T11:00:00",1]
["ХХХ","2012-07-03T12:00:00",1]
["ХХХ","2012-07-05T13:00:00",1]
["ХХХ","2012-07-06T13:00:00",1]
["ХХХ","2012-07-06T16:00:00",1]
["ХХХ","2012-07-26T14:00:00",1]
["ХХХ","2012-08-02T12:30:00",1]
["ХХХ","2012-08-02T18:00:00",1]
["ХХХ","2012-08-03T15:30:00",1.5]
["ХХХ","2012-08-03T17:00:00",1]
["ХХХ","2012-08-06T16:00:00",1]
["ХХХ","2012-08-09T12:30:00",1]
["ХХХ","2012-08-10T15:30:00",1]
["ХХХ","2012-08-13T19:30:00",2]
["ХХХ","2012-08-14T13:00:00",0.5]
["ХХХ","2012-08-14T14:30:00",1]
["ХХХ","2012-08-15T17:30:00",1]
["ХХХ","2012-08-17T15:00:00",1]
["ХХХ","2012-08-20T16:30:00",1]
["ХХХ","2012-08-24T14:30:00",1]
["ХХХ","2012-08-29T14:30:00",1]
["ХХХ","2012-08-30T13:00:00",0.5]
["ХХХ","2012-09-04T13:30:00",0.5]
["ХХХ","2012-09-05T10:00:00",1]
["ХХХ","2012-09-10T16:00:00",1]
["ХХХ","2012-09-12T14:00:00",0.5]
["ХХХ","2012-09-13T15:00:00",1]
["ХХХ","2012-09-14T16:00:00",0.5]
["ХХХ","2012-09-17T15:00:00",1]
["ХХХ","2012-09-17T16:00:00",1]
["ХХХ","2012-09-19T11:00:00",1.5]
["ХХХ","2012-09-19T14:30:00",0.5]
["ХХХ","2012-09-19T17:30:00",1]
["ХХХ","2012-09-24",32]
["ХХХ","2012-09-25T15:30:00",1]
["ХХХ","2012-09-26T12:00:00",0.5]
["ХХХ","2012-09-27T10:30:00",0.5]
["ХХХ","2012-09-27T11:00:00",0.5]
["ХХХ","2012-09-27T12:30:00",0.5]
["ХХХ","2012-09-27T19:00:00",1]
["ХХХ","2012-10-02T11:00:00",3]
["ХХХ","2012-10-02T15:30:00",0.5]
["ХХХ","2012-10-03T17:30:00",1]
["ХХХ","2012-10-04T15:00:00",1]
["ХХХ","2012-10-04T18:00:00",1]
["ХХХ","2012-10-05T15:00:00",8.3333333333333329E-2]
["ХХХ","2012-10-05T15:25:00",0.25]
["ХХХ","2012-10-08T13:00:00",0.5]
["ХХХ","2012-10-08T13:30:00",0.5]
["ХХХ","2012-10-08T15:00:00",0.5]
["ХХХ","2012-10-08T15:30:00",0.5]
["ХХХ","2012-10-08T16:00:00",0.5]
["ХХХ","2012-10-09T11:00:00",1]
["ХХХ","2012-10-11T15:00:00",1]
["ХХХ","2012-10-11T17:30:00",1]
["ХХХ","2012-10-15T18:00:00",1]
["ХХХ","2012-10-16T11:00:00",3]
["ХХХ","2012-10-18T18:30:00",1]
["ХХХ","2012-10-22T12:30:00",0.5]
["ХХХ","2012-10-25T10:00:00",6]
["ХХХ","2012-10-25T16:00:00",1]
["ХХХ","2012-10-25T17:00:00",1.5]
["ХХХ","2012-10-29T15:30:00",1]
["ХХХ","2012-10-30T11:00:00",3]
["ХХХ","2012-10-30T15:00:00",0.5]
["ХХХ","2012-11-01T10:00:00",3.5]
["ХХХ","2012-11-01T17:30:00",1]
["ХХХ","2012-11-01T17:30:00",0.5]
["ХХХ","2012-11-01T20:00:00",3]
["ХХХ","2012-11-02T11:00:00",1.5]
["ХХХ","2012-11-05T16:00:00",1.5]
["ХХХ","2012-11-07T12:30:00",0.5]
["ХХХ","2012-11-07T17:00:00",1]
["ХХХ","2012-11-12T15:30:00",0.5]
["ХХХ","2012-11-12T17:30:00",1]
["ХХХ","2012-11-13T11:00:00",3]
["ХХХ","2012-11-13T15:00:00",1]
["ХХХ","2012-11-15T14:00:00",1]
["ХХХ","2012-11-16T10:30:00",1]
["ХХХ","2012-11-16T17:30:00",1]
["ХХХ","2012-11-19T17:30:00",1]
["ХХХ","2012-11-20T22:00:00",1]
["ХХХ","2012-11-22T12:00:00",0.5]
["ХХХ","2012-11-22T15:30:00",1]
["ХХХ","2012-11-26T10:30:00",1]
["ХХХ","2012-11-27T11:00:00",3]
["ХХХ","2012-11-28T12:00:00",1]
["ХХХ","2012-11-29T19:00:00",3]
["ХХХ","2012-11-30T11:00:00",1]
["ХХХ","2012-12-11T11:00:00",3]
["ХХХ","2012-12-11T17:45:00",1]
["ХХХ","2012-12-14T11:00:00",1]
["ХХХ","2012-12-19T11:00:00",1]
["ХХХ","2012-12-19T15:00:00",1.5]
["ХХХ","2012-12-20T11:00:00",1]
["ХХХ","2012-12-20T12:30:00",1]
["ХХХ","2012-12-20T18:30:00",2]
["ХХХ","2012-12-21T11:30:00",0.5]
["ХХХ","2012-12-21T12:00:00",1]
["ХХХ","2012-12-24T12:00:00",1]
["ХХХ","2012-12-24T14:30:00",5]
["ХХХ","2012-12-24T16:00:00",1.5]
["ХХХ","2012-12-24T17:30:00",1]
["ХХХ","2012-12-24T18:30:00",1]
["ХХХ","2012-12-25T11:00:00",3]
["ХХХ","2012-12-25T16:00:00",0.5]
["ХХХ","2012-12-26T15:30:00",1]
["ХХХ","2012-12-26T17:30:00",1]
["ХХХ","2012-12-27T17:00:00",1.5]
["ХХХ","2012-12-27T20:00:00",1]
["ХХХ","2012-12-28T12:00:00",1]
["ХХХ","2012-12-28T16:00:00",1.5]
["ХХХ","2013-01-04T13:30:00",1]
["ХХХ","2013-01-07T13:30:00",1]
["ХХХ","2013-01-09",40]
["ХХХ","2013-01-10T16:00:00",1]
["ХХХ","2013-01-11T12:00:00",0.5]
["ХХХ","2013-01-21",40]
["ХХХ","2013-01-21T16:00:00",1]
["ХХХ","2013-01-23T13:00:00",0.5]
["ХХХ","2013-01-23T15:00:00",1.5]
["ХХХ","2013-01-24T16:00:00",1]
["ХХХ","2013-01-28T11:00:00",2]
["ХХХ","2013-01-28T13:00:00",1]
["ХХХ","2013-01-28T16:00:00",1]
["ХХХ","2013-01-29T10:00:00",8]
["ХХХ","2013-01-29T11:30:00",6]
["ХХХ","2013-01-29T18:00:00",1]
["ХХХ","2013-01-30",24]
["ХХХ","2013-01-30T11:00:00",1]
["ХХХ","2013-01-30T13:00:00",0.5]
["ХХХ","2013-01-30T16:30:00",0.5]
["ХХХ","2013-01-30T17:00:00",3]
["ХХХ","2013-01-30T18:30:00",1]
["ХХХ","2013-01-31T11:00:00",1]
["ХХХ","2013-01-31T12:30:00",6]
["ХХХ","2013-01-31T15:00:00",0.5]
["ХХХ","2013-01-31T16:00:00",1]
["ХХХ","2013-02-01T18:00:00",1]
["ХХХ","2013-02-04T10:00:00",3.5]
["ХХХ","2013-02-04T14:00:00",5]
["ХХХ","2013-02-04T16:00:00",1]
["ХХХ","2013-02-04T19:00:00",3]
["ХХХ","2013-02-05T12:00:00",0.5]
["ХХХ","2013-02-05T14:30:00",2]
["ХХХ","2013-02-05T20:00:00",0.5]
["ХХХ","2013-02-06T11:00:00",1]
["ХХХ","2013-02-06T12:00:00",1]
["ХХХ","2013-02-06T13:00:00",0.5]
["ХХХ","2013-02-06T14:00:00",5]
["ХХХ","2013-02-07T10:00:00",8]
["ХХХ","2013-02-07T16:00:00",1]
["ХХХ","2013-02-08T10:00:00",3.5]
["ХХХ","2013-02-08T15:30:00",1]
["ХХХ","2013-02-08T17:00:00",1]
["ХХХ","2013-02-11T10:30:00",1]
["ХХХ","2013-02-11T15:30:00",1.5]
["ХХХ","2013-02-11T16:00:00",1]
["ХХХ","2013-02-11T17:00:00",2]
["ХХХ","2013-02-12T15:30:00",1]
["ХХХ","2013-02-12T18:00:00",0.5]
["ХХХ","2013-02-12T18:30:00",2.5]
["ХХХ","2013-02-13T13:00:00",0.5]
["ХХХ","2013-02-14T10:30:00",1]
["ХХХ","2013-02-14T16:00:00",1]
["ХХХ","2013-02-14T19:00:00",2]
["ХХХ","2013-02-15T10:30:00",8]
["ХХХ","2013-02-18T10:00:00",2.5]
["ХХХ","2013-02-18T12:30:00",1]
["ХХХ","2013-02-18T16:00:00",1]
["ХХХ","2013-02-19T10:00:00",4.5]
["ХХХ","2013-02-19T15:00:00",1]
["ХХХ","2013-02-19T16:00:00",1]
["ХХХ","2013-02-19T18:00:00",3]
["ХХХ","2013-02-20T10:00:00",8]
["ХХХ","2013-02-20T13:00:00",0.5]
["ХХХ","2013-02-20T17:00:00",1]
["ХХХ","2013-02-21T10:00:00",1.5]
["ХХХ","2013-02-21T13:00:00",0.5]
["ХХХ","2013-02-21T16:00:00",6]
["ХХХ","2013-02-21T16:00:00",1]
["ХХХ","2013-02-22T10:00:00",1]
["ХХХ","2013-02-22T11:00:00",3.5]
["ХХХ","2013-02-22T15:00:00",3.5]
["ХХХ","2013-02-22T18:30:00",3.5]
["ХХХ","2013-02-25T16:00:00",1]
["ХХХ","2013-02-27T11:00:00",1]
["ХХХ","2013-02-27T13:00:00",0.5]
["ХХХ","2013-02-27T19:30:00",3]
["ХХХ","2013-02-28T11:00:00",2]
["ХХХ","2013-02-28T15:30:00",0.5]
["ХХХ","2013-02-28T16:00:00",1]
["ХХХ","2013-02-28T18:00:00",2.5]
["ХХХ","2013-02-28T18:00:00",0.5]
["ХХХ","2013-03-01T11:00:00",7]
["ХХХ","2013-03-01T16:00:00",0.5]
["ХХХ","2013-03-01T18:00:00",2.5]
["ХХХ","2013-03-01T19:30:00",3]
["ХХХ","2013-03-04T11:00:00",1.5]
["ХХХ","2013-03-04T16:00:00",1]
["ХХХ","2013-03-04T19:30:00",3]
["ХХХ","2013-03-05T10:00:00",3.5]
["ХХХ","2013-03-06T13:00:00",0.5]
["ХХХ","2013-03-06T19:30:00",3]
["ХХХ","2013-03-07T10:30:00",1]
["ХХХ","2013-03-07T13:00:00",1]
["ХХХ","2013-03-07T14:30:00",1.5]
["ХХХ","2013-03-07T16:00:00",1.5]
["ХХХ","2013-03-07T16:00:00",2]
["ХХХ","2013-03-07T18:00:00",3]
["ХХХ","2013-03-08T19:30:00",3]
["ХХХ","2013-03-11T11:00:00",2.5]
["ХХХ","2013-03-11T14:30:00",0.5]
["ХХХ","2013-03-11T16:00:00",1]
["ХХХ","2013-03-11T19:30:00",3]
["ХХХ","2013-03-12T11:00:00",4.5]
["ХХХ","2013-03-12T15:30:00",1]
["ХХХ","2013-03-12T17:00:00",4]
["ХХХ","2013-03-13T11:00:00",2]
["ХХХ","2013-03-13T13:00:00",0.5]
["ХХХ","2013-03-13T19:30:00",3]
["ХХХ","2013-03-14T11:00:00",5]
["ХХХ","2013-03-14T12:00:00",1]
["ХХХ","2013-03-14T16:00:00",1]
["ХХХ","2013-03-14T18:00:00",3]
["ХХХ","2013-03-15",40]
["ХХХ","2013-03-15",16]
["ХХХ","2013-03-15T10:30:00",6]
["ХХХ","2013-03-15T19:30:00",3]
["ХХХ","2013-03-18T15:00:00",2]
["ХХХ","2013-03-18T16:00:00",1]
["ХХХ","2013-03-18T19:30:00",3]
["ХХХ","2013-03-19T10:30:00",7.5]
["ХХХ","2013-03-20T12:00:00",1]
["ХХХ","2013-03-20T13:00:00",0.5]
["ХХХ","2013-03-20T15:00:00",1]
["ХХХ","2013-03-20T19:30:00",3]
["ХХХ","2013-03-21T13:00:00",3]
["ХХХ","2013-03-21T16:00:00",1.5]
["ХХХ","2013-03-21T16:00:00",1]
["ХХХ","2013-03-21T18:00:00",3]
["ХХХ","2013-03-22",16]
["ХХХ","2013-03-22T09:00:00",8]
["ХХХ","2013-03-22T19:30:00",3]
["ХХХ","2013-03-25T15:00:00",1]
["ХХХ","2013-03-25T16:00:00",1]
["ХХХ","2013-03-25T17:30:00",0.5]
["ХХХ","2013-03-25T18:00:00",1]
["ХХХ","2013-03-25T19:30:00",3]
["ХХХ","2013-03-26T11:00:00",6.5]
["ХХХ","2013-03-27T13:00:00",0.5]
["ХХХ","2013-03-27T15:30:00",4]
["ХХХ","2013-03-27T19:30:00",3]
["ХХХ","2013-03-28T11:00:00",1]
["ХХХ","2013-03-28T15:00:00",1]
["ХХХ","2013-03-28T16:00:00",1]
["ХХХ","2013-03-28T16:00:00",1]
["ХХХ","2013-03-28T18:00:00",3]
["ХХХ","2013-03-29",32]
["ХХХ","2013-03-29T18:00:00",1]
["ХХХ","2013-03-29T18:00:00",0.5]
["ХХХ","2013-03-29T19:30:00",3]
["ХХХ","2013-04-01",16]
["ХХХ","2013-04-01T16:00:00",1]
["ХХХ","2013-04-01T19:30:00",3]
["ХХХ","2013-04-03T11:00:00",1]
["ХХХ","2013-04-03T13:00:00",0.5]
["ХХХ","2013-04-03T19:30:00",3]
["ХХХ","2013-04-04T18:00:00",3]
["ХХХ","2013-04-05T15:00:00",1.5]
["ХХХ","2013-04-05T19:30:00",3]
["ХХХ","2013-04-08T18:00:00",0.5]
["ХХХ","2013-04-08T18:00:00",1]
["ХХХ","2013-04-08T19:30:00",3]
["ХХХ","2013-04-09T11:00:00",1.5]
["ХХХ","2013-04-09T12:00:00",7]
["ХХХ","2013-04-10T13:00:00",2]
["ХХХ","2013-04-10T13:00:00",0.5]
["ХХХ","2013-04-10T16:00:00",1.5]
["ХХХ","2013-04-10T19:30:00",3]
["ХХХ","2013-04-11",24]
["ХХХ","2013-04-11T19:00:00",3]
["ХХХ","2013-04-12T19:30:00",3]
["ХХХ","2013-04-15T14:30:00",1]
["ХХХ","2013-04-15T19:30:00",3]
["ХХХ","2013-04-15T23:00:00",0.5]
["ХХХ","2013-04-16T10:30:00",1]
["ХХХ","2013-04-16T15:00:00",0.5]
["ХХХ","2013-04-16T17:30:00",1.5]
["ХХХ","2013-04-16T19:00:00",1]
["ХХХ","2013-04-16T20:00:00",1]
["ХХХ","2013-04-17T13:00:00",0.5]
["ХХХ","2013-04-17T19:30:00",3]
["ХХХ","2013-04-18T13:30:00",0.5]
["ХХХ","2013-04-18T18:00:00",3]
["ХХХ","2013-04-19",24]
["ХХХ","2013-04-19T19:30:00",3]
["ХХХ","2013-04-22",40]
["ХХХ","2013-04-22T19:30:00",3]
["ХХХ","2013-04-24T13:00:00",0.5]
["ХХХ","2013-04-24T19:30:00",3]
["ХХХ","2013-04-25T18:00:00",3]
["ХХХ","2013-04-26T19:30:00",3]
["ХХХ","2013-04-29T19:30:00",3]
["ХХХ","2013-05-01T13:00:00",0.5]
["ХХХ","2013-05-01T19:30:00",3]
["ХХХ","2013-05-02T18:00:00",3]
["ХХХ","2013-05-03T19:30:00",3]
["ХХХ","2013-05-06T19:30:00",3]
["ХХХ","2013-05-08T13:00:00",0.5]
["ХХХ","2013-05-08T19:30:00",3]
["ХХХ","2013-05-09T18:00:00",3]
["ХХХ","2013-05-10T19:30:00",3]
["ХХХ","2013-05-13T19:30:00",3]
["ХХХ","2013-05-13T23:30:00",0.5]
["ХХХ","2013-05-15T12:00:00",1]
["ХХХ","2013-05-15T13:00:00",3.5]
["ХХХ","2013-05-15T17:00:00",0.5]
["ХХХ","2013-05-15T19:30:00",3]
["ХХХ","2013-05-16T12:30:00",0.5]
["ХХХ","2013-05-16T13:00:00",1]
["ХХХ","2013-05-16T14:00:00",1]
["ХХХ","2013-05-16T18:00:00",3]
["ХХХ","2013-05-17T14:45:00",0.25]
["ХХХ","2013-05-17T19:30:00",3]
["ХХХ","2013-05-20T12:00:00",1]
["ХХХ","2013-05-20T17:00:00",1.5]
["ХХХ","2013-05-20T19:30:00",3]
["ХХХ","2013-05-21T11:00:00",8]
["ХХХ","2013-05-22T13:00:00",0.5]
["ХХХ","2013-05-22T18:20:00",1.1666666666666667]
["ХХХ","2013-05-22T19:30:00",3]
["ХХХ","2013-05-23T11:00:00",7]
["ХХХ","2013-05-23T18:00:00",3]
["ХХХ","2013-05-24T17:00:00",1]
["ХХХ","2013-05-24T19:30:00",3]
["ХХХ","2013-05-27T13:45:00",1]
["ХХХ","2013-05-27T18:00:00",1]
["ХХХ","2013-05-27T19:30:00",3]
["ХХХ","2013-05-28T11:00:00",8]
["ХХХ","2013-05-28T17:00:00",1]
["ХХХ","2013-05-29T13:00:00",0.5]
["ХХХ","2013-05-29T17:00:00",1]
["ХХХ","2013-05-29T19:30:00",3]
["ХХХ","2013-05-30T11:00:00",1]
["ХХХ","2013-05-30T11:00:00",7]
["ХХХ","2013-05-30T13:00:00",0.25]
["ХХХ","2013-05-30T14:30:00",1]
["ХХХ","2013-05-30T16:00:00",3.5]
["ХХХ","2013-05-30T18:00:00",1]
["ХХХ","2013-05-30T18:00:00",3]
["ХХХ","2013-05-31T11:00:00",1]
["ХХХ","2013-05-31T13:00:00",0.5]
["ХХХ","2013-05-31T14:00:00",1]
["ХХХ","2013-05-31T17:00:00",1]
["ХХХ","2013-05-31T19:30:00",3]
["ХХХ","2013-06-03T13:00:00",2]
["ХХХ","2013-06-03T19:30:00",3]
["ХХХ","2013-06-04T11:00:00",8]
["ХХХ","2013-06-04T14:00:00",1]
["ХХХ","2013-06-04T18:00:00",1]
["ХХХ","2013-06-04T18:30:00",1]
["ХХХ","2013-06-05T13:00:00",0.5]
["ХХХ","2013-06-05T17:00:00",1]
["ХХХ","2013-06-05T18:30:00",1]
["ХХХ","2013-06-05T19:00:00",0.5]
["ХХХ","2013-06-05T19:30:00",3]
["ХХХ","2013-06-06T11:00:00",7]
["ХХХ","2013-06-06T18:00:00",3]
["ХХХ","2013-06-07T13:30:00",0.5]
["ХХХ","2013-06-07T19:30:00",3]
["ХХХ","2013-06-10T12:00:00",1]
["ХХХ","2013-06-10T13:00:00",2]
["ХХХ","2013-06-10T17:00:00",1]
["ХХХ","2013-06-10T19:30:00",3]
["ХХХ","2013-06-11T11:00:00",8]
["ХХХ","2013-06-11T14:00:00",2]
["ХХХ","2013-06-11T18:30:00",1]
["ХХХ","2013-06-11T20:00:00",1]
["ХХХ","2013-06-12T19:30:00",3]
["ХХХ","2013-06-13T11:00:00",7]
["ХХХ","2013-06-13T13:00:00",0.5]
["ХХХ","2013-06-13T14:00:00",2]
["ХХХ","2013-06-13T16:30:00",0.5]
["ХХХ","2013-06-13T18:00:00",3]
["ХХХ","2013-06-14T12:00:00",6.5]
["ХХХ","2013-06-14T14:00:00",1.5]
["ХХХ","2013-06-14T16:30:00",0.5]
["ХХХ","2013-06-14T17:00:00",1]
["ХХХ","2013-06-14T19:30:00",3]
["ХХХ","2013-06-17T14:30:00",1.5]
["ХХХ","2013-06-17T16:00:00",1]
["ХХХ","2013-06-17T17:30:00",1]
["ХХХ","2013-06-17T18:00:00",1]
["ХХХ","2013-06-17T19:30:00",3]
["ХХХ","2013-06-18T11:00:00",8]
["ХХХ","2013-06-18T15:00:00",1]
["ХХХ","2013-06-18T16:00:00",1]
["ХХХ","2013-06-19T10:30:00",2.5]
["ХХХ","2013-06-19T13:30:00",2.5]
["ХХХ","2013-06-19T18:00:00",0.5]
["ХХХ","2013-06-19T19:30:00",3]
["ХХХ","2013-06-20",24]
["ХХХ","2013-06-20T11:00:00",7]
["ХХХ","2013-06-20T18:00:00",3]
["ХХХ","2013-06-21T19:30:00",3]

{"sheet":"Statistics","index":4,"n_rows":134,"n_cols":15,"rows_kept":134,"cut":false,"hidden":false,"merged":[]}
[null,"Axis Name","Week Start Date","Week End Date","In Tasks","Out Tasks","Tasks Balance","Meetings Duration, hrs"]
[null,"Earlier",0,{"$f":"LastUpdated-WEEKDAY(LastUpdated,3)-7*A3-1","v":"2013-03-03"},{"$f":"COUNTIFS(TaskRawData!C:C,\"<=\"&D2,TaskRawData!C:C,\">=\"&C2)","v":617},{"$f":"COUNTIFS(TaskRawData!D:D,\"<=\"&D2,TaskRawData!D:D,\">=\"&C2)","v":596},{"$f":"E2-F2","v":21},{"$f":"SUMIFS(MeetingRawData!C:C,MeetingRawData!B:B,\"<=\"&D2,MeetingRawData!B:B,\">=\"&C2)","v":445.33333333333331}]
[16,{"$f":"TEXT(A3,\"?\") & \" week(s) ago\"","v":"16 week(s) ago"},{"$f":"D2+1","v":"2013-03-04"},{"$f":"C3+6","v":"2013-03-10"},{"$f":"COUNTIFS(TaskRawData!C:C,\"<=\"&D3,TaskRawData!C:C,\">=\"&C3)","v":16},{"$f":"COUNTIFS(TaskRawData!D:D,\"<=\"&D3,TaskRawData!D:D,\">=\"&C3)","v":18},{"$f":"E3-F3+G2","v":19},{"$f":"SUMIFS(MeetingRawData!C:C,MeetingRawData!B:B,\"<=\"&D3,MeetingRawData!B:B,\">=\"&C3)","v":25.5}]
[{"$f":"A3-1","v":15},"15 week(s) ago",{"$f":"C3+7","v":"2013-03-11"},"2013-03-17",{"$f":"COUNTIFS(TaskRawData!C:C,\"<=\"&D4,TaskRawData!C:C,\">=\"&C4)","v":18},{"$f":"COUNTIFS(TaskRawData!D:D,\"<=\"&D4,TaskRawData!D:D,\">=\"&C4)","v":13},{"$f":"E4-F4+G3","v":24},{"$f":"SUMIFS(MeetingRawData!C:C,MeetingRawData!B:B,\"<=\"&D4,MeetingRawData!B:B,\">=\"&C4)","v":97}]
[14,"14 week(s) ago","2013-03-18","2013-03-24",{"$f":"COUNTIFS(TaskRawData!C:C,\"<=\"&D5,TaskRawData!C:C,\">=\"&C5)","v":13},{"$f":"COUNTIFS(TaskRawData!D:D,\"<=\"&D5,TaskRawData!D:D,\">=\"&C5)","v":16},21,{"$f":"SUMIFS(MeetingRawData!C:C,MeetingRawData!B:B,\"<=\"&D5,MeetingRawData!B:B,\">=\"&C5)","v":54.5}]
[13,{"$f":"TEXT(A6,\"?\") & \" week(s) ago\"","v":"13 week(s) ago"},"2013-03-25",{"$f":"C6+6","v":"2013-03-31"},{"$f":"COUNTIFS(TaskRawData!C:C,\"<=\"&D6,TaskRawData!C:C,\">=\"&C6)","v":17},{"$f":"COUNTIFS(TaskRawData!D:D,\"<=\"&D6,TaskRawData!D:D,\">=\"&C6)","v":20},{"$f":"E6-F6+G5","v":18},{"$f":"SUMIFS(MeetingRawData!C:C,MeetingRawData!B:B,\"<=\"&D6,MeetingRawData!B:B,\">=\"&C6)","v":64}]
[12,"12 week(s) ago","2013-04-01","2013-04-07",{"$f":"COUNTIFS(TaskRawData!C:C,\"<=\"&D7,TaskRawData!C:C,\">=\"&C7)","v":15},{"$f":"COUNTIFS(TaskRawData!D:D,\"<=\"&D7,TaskRawData!D:D,\">=\"&C7)","v":11},22,{"$f":"SUMIFS(MeetingRawData!C:C,MeetingRawData!B:B,\"<=\"&D7,MeetingRawData!B:B,\">=\"&C7)","v":32}]
[11,"11 week(s) ago","2013-04-08","2013-04-14",{"$f":"COUNTIFS(TaskRawData!C:C,\"<=\"&D8,TaskRawData!C:C,\">=\"&C8)","v":8},{"$f":"COUNTIFS(TaskRawData!D:D,\"<=\"&D8,TaskRawData!D:D,\">=\"&C8)","v":16},14,{"$f":"SUMIFS(MeetingRawData!C:C,MeetingRawData!B:B,\"<=\"&D8,MeetingRawData!B:B,\">=\"&C8)","v":50}]
[10,"10 week(s) ago","2013-04-15","2013-04-21",{"$f":"COUNTIFS(TaskRawData!C:C,\"<=\"&D9,TaskRawData!C:C,\">=\"&C9)","v":23},{"$f":"COUNTIFS(TaskRawData!D:D,\"<=\"&D9,TaskRawData!D:D,\">=\"&C9)","v":17},20,{"$f":"SUMIFS(MeetingRawData!C:C,MeetingRawData!B:B,\"<=\"&D9,MeetingRawData!B:B,\">=\"&C9)","v":43.5}]
[9,"9 week(s) ago","2013-04-22","2013-04-28",{"$f":"COUNTIFS(TaskRawData!C:C,\"<=\"&D10,TaskRawData!C:C,\">=\"&C10)","v":0},{"$f":"COUNTIFS(TaskRawData!D:D,\"<=\"&D10,TaskRawData!D:D,\">=\"&C10)","v":0},20,{"$f":"SUMIFS(MeetingRawData!C:C,MeetingRawData!B:B,\"<=\"&D10,MeetingRawData!B:B,\">=\"&C10)","v":52.5}]
[8,"8 week(s) ago","2013-04-29","2013-05-05",{"$f":"COUNTIFS(TaskRawData!C:C,\"<=\"&D11,TaskRawData!C:C,\">=\"&C11)","v":0},{"$f":"COUNTIFS(TaskRawData!D:D,\"<=\"&D11,TaskRawData!D:D,\">=\"&C11)","v":0},20,{"$f":"SUMIFS(MeetingRawData!C:C,MeetingRawData!B:B,\"<=\"&D11,MeetingRawData!B:B,\">=\"&C11)","v":12.5}]
[7,"7 week(s) ago","2013-05-06","2013-05-12",{"$f":"COUNTIFS(TaskRawData!C:C,\"<=\"&D12,TaskRawData!C:C,\">=\"&C12)","v":0},{"$f":"COUNTIFS(TaskRawData!D:D,\"<=\"&D12,TaskRawData!D:D,\">=\"&C12)","v":0},20,{"$f":"SUMIFS(MeetingRawData!C:C,MeetingRawData!B:B,\"<=\"&D12,MeetingRawData!B:B,\">=\"&C12)","v":12.5}]
[6,"6 week(s) ago","2013-05-13","2013-05-19",{"$f":"COUNTIFS(TaskRawData!C:C,\"<=\"&D13,TaskRawData!C:C,\">=\"&C13)","v":28},{"$f":"COUNTIFS(TaskRawData!D:D,\"<=\"&D13,TaskRawData!D:D,\">=\"&C13)","v":25},23,{"$f":"SUMIFS(MeetingRawData!C:C,MeetingRawData!B:B,\"<=\"&D13,MeetingRawData!B:B,\">=\"&C13)","v":20.25}]
[5,"5 week(s) ago","2013-05-20","2013-05-26",{"$f":"COUNTIFS(TaskRawData!C:C,\"<=\"&D14,TaskRawData!C:C,\">=\"&C14)","v":20},{"$f":"COUNTIFS(TaskRawData!D:D,\"<=\"&D14,TaskRawData!D:D,\">=\"&C14)","v":17},26,{"$f":"SUMIFS(MeetingRawData!C:C,MeetingRawData!B:B,\"<=\"&D14,MeetingRawData!B:B,\">=\"&C14)","v":32.166666666666664}]
[4,"4 week(s) ago","2013-05-27","2013-06-02",{"$f":"COUNTIFS(TaskRawData!C:C,\"<=\"&D15,TaskRawData!C:C,\">=\"&C15)","v":23},{"$f":"COUNTIFS(TaskRawData!D:D,\"<=\"&D15,TaskRawData!D:D,\">=\"&C15)","v":26},23,{"$f":"SUMIFS(MeetingRawData!C:C,MeetingRawData!B:B,\"<=\"&D15,MeetingRawData!B:B,\">=\"&C15)","v":41.75}]
[3,"3 week(s) ago","2013-06-03","2013-06-09",{"$f":"COUNTIFS(TaskRawData!C:C,\"<=\"&D16,TaskRawData!C:C,\">=\"&C16)","v":28},{"$f":"COUNTIFS(TaskRawData!D:D,\"<=\"&D16,TaskRawData!D:D,\">=\"&C16)","v":25},26,{"$f":"SUMIFS(MeetingRawData!C:C,MeetingRawData!B:B,\"<=\"&D16,MeetingRawData!B:B,\">=\"&C16)","v":35.5}]
[2,"2 week(s) ago","2013-06-10","2013-06-16",{"$f":"COUNTIFS(TaskRawData!C:C,\"<=\"&D17,TaskRawData!C:C,\">=\"&C17)","v":8},{"$f":"COUNTIFS(TaskRawData!D:D,\"<=\"&D17,TaskRawData!D:D,\">=\"&C17)","v":20},14,{"$f":"SUMIFS(MeetingRawData!C:C,MeetingRawData!B:B,\"<=\"&D17,MeetingRawData!B:B,\">=\"&C17)","v":47.5}]
[1,"1 week(s) ago","2013-06-17","2013-06-23",{"$f":"COUNTIFS(TaskRawData!C:C,\"<=\"&D18,TaskRawData!C:C,\">=\"&C18)","v":6},{"$f":"COUNTIFS(TaskRawData!D:D,\"<=\"&D18,TaskRawData!D:D,\">=\"&C18)","v":11},9,{"$f":"SUMIFS(MeetingRawData!C:C,MeetingRawData!B:B,\"<=\"&D18,MeetingRawData!B:B,\">=\"&C18)","v":63}]
[0,"  week(s) ago","2013-06-24","2013-06-30",{"$f":"COUNTIFS(TaskRawData!C:C,\"<=\"&D19,TaskRawData!C:C,\">=\"&C19)","v":1},{"$f":"COUNTIFS(TaskRawData!D:D,\"<=\"&D19,TaskRawData!D:D,\">=\"&C19)","v":0},10,{"$f":"SUMIFS(MeetingRawData!C:C,MeetingRawData!B:B,\"<=\"&D19,MeetingRawData!B:B,\">=\"&C19)","v":0}]
[]
[null,"Completed Life-Time distribution"]
[]
[null,"Bin","Number of tasks","Cumulative","Number of tasks"]
[null,-1]
[null,0,{"$f":"E25/$E$32","v":0.3279503105590062},{"$f":"C25+D24","v":0.3279503105590062},{"$f":"COUNTIFS(TaskRawData!F:F,\"<=\"&B25,TaskRawData!F:F,\">\"&B24,TaskRawData!B:B,\"=\"&TRUE)","v":264}]
[null,1,0.15776397515527951,{"$f":"C26+D25","v":0.48571428571428571},{"$f":"COUNTIFS(TaskRawData!F:F,\"<=\"&B26,TaskRawData!F:F,\">\"&B25,TaskRawData!B:B,\"=\"&TRUE)","v":127}]
[null,5,0.22111801242236026,0.70683229813664594,{"$f":"COUNTIFS(TaskRawData!F:F,\"<=\"&B27,TaskRawData!F:F,\">\"&B26,TaskRawData!B:B,\"=\"&TRUE)","v":178}]
[null,10,0.14534161490683231,0.85217391304347823,{"$f":"COUNTIFS(TaskRawData!F:F,\"<=\"&B28,TaskRawData!F:F,\">\"&B27,TaskRawData!B:B,\"=\"&TRUE)","v":117}]
[null,20,7.2049689440993783E-2,0.924223602484472,{"$f":"COUNTIFS(TaskRawData!F:F,\"<=\"&B29,TaskRawData!F:F,\">\"&B28,TaskRawData!B:B,\"=\"&TRUE)","v":58}]
[null,50,7.5776397515527949E-2,1,{"$f":"COUNTIFS(TaskRawData!F:F,\"<=\"&B30,TaskRawData!F:F,\">\"&B29,TaskRawData!B:B,\"=\"&TRUE)","v":61}]
[]
[null,"Total",null,null,{"$f":"SUM(E25:E31)","v":805}]
[]
[]
[null,"Pending Life-Time distribution"]
[]
[null,"Bin","Number of tasks","Cumulative","Number of tasks"]
[null,-1]
[null,1,{"$f":"E39/$E$46","v":{"$error":"#DIV/0!"}},{"$f":"C39+D38","v":{"$error":"#DIV/0!"}},{"$f":"COUNTIFS(TaskRawData!F:F,\"<=\"&B39,TaskRawData!F:F,\">\"&B38,TaskRawData!B:B,\"=\"&FALSE)","v":0}]
[null,7,{"$f":"E40/$E$32","v":0},{"$f":"C40+D39","v":{"$error":"#DIV/0!"}},{"$f":"COUNTIFS(TaskRawData!F:F,\"<=\"&B40,TaskRawData!F:F,\">\"&B39,TaskRawData!B:B,\"=\"&FALSE)","v":0}]
[null,14,0,{"$error":"#DIV/0!"},{"$f":"COUNTIFS(TaskRawData!F:F,\"<=\"&B41,TaskRawData!F:F,\">\"&B40,TaskRawData!B:B,\"=\"&FALSE)","v":0}]
[null,28,0,{"$error":"#DIV/0!"},{"$f":"COUNTIFS(TaskRawData!F:F,\"<=\"&B42,TaskRawData!F:F,\">\"&B41,TaskRawData!B:B,\"=\"&FALSE)","v":0}]
[null,56,0,{"$error":"#DIV/0!"},{"$f":"COUNTIFS(TaskRawData!F:F,\"<=\"&B43,TaskRawData!F:F,\">\"&B42,TaskRawData!B:B,\"=\"&FALSE)","v":0}]
[null,500,0,{"$error":"#DIV/0!"},{"$f":"COUNTIFS(TaskRawData!F:F,\"<=\"&B44,TaskRawData!F:F,\">\"&B43,TaskRawData!B:B,\"=\"&FALSE)","v":0}]
[]
[null,"Total",null,null,{"$f":"SUM(E39:E45)","v":0}]
[]
[]
[null,"Week performance"]
[]
[null,"Bin","Number of tasks","Cumulative","Number of weeks"]
[null,-1]
[null,10,{"$f":"E53/$E$46","v":{"$error":"#DIV/0!"}},{"$f":"C53+D52","v":{"$error":"#DIV/0!"}},{"$f":"COUNTIFS($F$3:$F$19,\"<=\"&B53,$F$3:$F$19,\">\"&B52)","v":4}]
[null,30,{"$f":"E54/$E$32","v":1.6149068322981366E-2},{"$f":"C54+D53","v":{"$error":"#DIV/0!"}},13]
[null,50,0,{"$error":"#DIV/0!"},0]
[null,70,0,{"$error":"#DIV/0!"},0]
[null,100,0,{"$error":"#DIV/0!"},0]
[null,100,0,{"$error":"#DIV/0!"},0]
[null,null,null,null,null,null,null,"Task Balance",null,null,null,"Out Tasks"]
[null,"Daily stats",null,null,null,null,null,"Ra",{"$f":"AVERAGE(H89:H101)","v":2.3076923076923075},"Av",{"$f":"AVERAGE(F89:F101)","v":15.615384615384615},"Ra",{"$f":"AVERAGE(L89:L106)","v":1.5555555555555556},"Av",{"$f":"AVERAGE(M89:M106)","v":1.6666666666666667}]
["DOW","Axis Name","Date","In Tasks","Out Tasks","Tasks Balance","Meetings Duration, hrs","R","LCL","UCL","CL","R","Av","Inflow UCL"]
[{"$f":"WEEKDAY(C62,2)","v":1},{"$f":"TEXT(C62,\"дд-МММ, ДДД\")","v":"29-апр, Пн"},{"$f":"LastUpdated-WEEKDAY(LastUpdated,3)-56","v":"2013-04-29"},{"$f":"COUNTIFS(TaskRawData!C:C,\">=\"&C62,TaskRawData!C:C,\"<\"&C63)","v":0},{"$f":"COUNTIFS(TaskRawData!D:D,\">=\"&C62,TaskRawData!D:D,\"<\"&C63)","v":0},{"$f":"D62-E62+G10","v":20},{"$f":"SUMIFS(MeetingRawData!C:C,MeetingRawData!B:B,\">\"&C62,MeetingRawData!B:B,\"<\"&(C62+1))","v":3}]
[{"$f":"WEEKDAY(C63,2)","v":2},{"$f":"TEXT(C63,\"дд-МММ, ДДД\")","v":"30-апр, Вт"},{"$f":"C62+1","v":"2013-04-30"},{"$f":"COUNTIFS(TaskRawData!C:C,\">=\"&C63,TaskRawData!C:C,\"<\"&C64)","v":0},{"$f":"COUNTIFS(TaskRawData!D:D,\">=\"&C63,TaskRawData!D:D,\"<\"&C64)","v":0},{"$f":"D63-E63+F62","v":20},{"$f":"SUMIFS(MeetingRawData!C:C,MeetingRawData!B:B,\">\"&C63,MeetingRawData!B:B,\"<\"&(C63+1))","v":0},{"$f":"ABS(F63-F62)","v":0},{"$f":"K63-2.66*$I$60","v":9.476923076923077},{"$f":"K63+2.66*$I$60","v":21.753846153846155},{"$f":"$K$60","v":15.615384615384615},{"$f":"ABS(D62-D63)","v":0},{"$f":"(D63+D62)/2","v":0},{"$f":"$O$60+2.66*$M$60","v":5.804444444444445}]
[3,"01-май, Ср",{"$f":"C63+1","v":"2013-05-01"},{"$f":"COUNTIFS(TaskRawData!C:C,\">=\"&C64,TaskRawData!C:C,\"<\"&C65)","v":0},{"$f":"COUNTIFS(TaskRawData!D:D,\">=\"&C64,TaskRawData!D:D,\"<\"&C65)","v":0},{"$f":"D64-E64+F63","v":20},{"$f":"SUMIFS(MeetingRawData!C:C,MeetingRawData!B:B,\">\"&C64,MeetingRawData!B:B,\"<\"&(C64+1))","v":3.5},{"$f":"ABS(F64-F63)","v":0},{"$f":"K64-2.66*$I$60","v":9.476923076923077},{"$f":"K64+2.66*$I$60","v":21.753846153846155},15.615384615384615,{"$f":"ABS(D63-D64)","v":0},{"$f":"(D64+D63)/2","v":0},{"$f":"$O$60+2.66*$M$60","v":5.804444444444445}]
[4,"02-май, Чт","2013-05-02",{"$f":"COUNTIFS(TaskRawData!C:C,\">=\"&C65,TaskRawData!C:C,\"<\"&C66)","v":0},{"$f":"COUNTIFS(TaskRawData!D:D,\">=\"&C65,TaskRawData!D:D,\"<\"&C66)","v":0},20,{"$f":"SUMIFS(MeetingRawData!C:C,MeetingRawData!B:B,\">\"&C65,MeetingRawData!B:B,\"<\"&(C65+1))","v":3},0,9.476923076923077,21.753846153846155,15.615384615384615,0,0,5.804444444444445]
[5,"03-май, Пт","2013-05-03",{"$f":"COUNTIFS(TaskRawData!C:C,\">=\"&C66,TaskRawData!C:C,\"<\"&C67)","v":0},{"$f":"COUNTIFS(TaskRawData!D:D,\">=\"&C66,TaskRawData!D:D,\"<\"&C67)","v":0},20,{"$f":"SUMIFS(MeetingRawData!C:C,MeetingRawData!B:B,\">\"&C66,MeetingRawData!B:B,\"<\"&(C66+1))","v":3},0,9.476923076923077,21.753846153846155,15.615384615384615,0,0,5.804444444444445]
[1,"06-май, Пн",{"$f":"C66+3","v":"2013-05-06"},{"$f":"COUNTIFS(TaskRawData!C:C,\">=\"&C67,TaskRawData!C:C,\"<\"&C68)","v":0},{"$f":"COUNTIFS(TaskRawData!D:D,\">=\"&C67,TaskRawData!D:D,\"<\"&C68)","v":0},20,{"$f":"SUMIFS(MeetingRawData!C:C,MeetingRawData!B:B,\">\"&C67,MeetingRawData!B:B,\"<\"&(C67+1))","v":3},0,9.476923076923077,21.753846153846155,15.615384615384615,0,0,5.804444444444445]
[2,"07-май, Вт",{"$f":"C67+1","v":"2013-05-07"},{"$f":"COUNTIFS(TaskRawData!C:C,\">=\"&C68,TaskRawData!C:C,\"<\"&C69)","v":0},{"$f":"COUNTIFS(TaskRawData!D:D,\">=\"&C68,TaskRawData!D:D,\"<\"&C69)","v":0},20,{"$f":"SUMIFS(MeetingRawData!C:C,MeetingRawData!B:B,\">\"&C68,MeetingRawData!B:B,\"<\"&(C68+1))","v":0},0,9.476923076923077,21.753846153846155,15.615384615384615,0,0,5.804444444444445]
[3,"08-май, Ср","2013-05-08",{"$f":"COUNTIFS(TaskRawData!C:C,\">=\"&C69,TaskRawData!C:C,\"<\"&C70)","v":0},{"$f":"COUNTIFS(TaskRawData!D:D,\">=\"&C69,TaskRawData!D:D,\"<\"&C70)","v":0},20,{"$f":"SUMIFS(MeetingRawData!C:C,MeetingRawData!B:B,\">\"&C69,MeetingRawData!B:B,\"<\"&(C69+1))","v":3.5},0,9.476923076923077,21.753846153846155,15.615384615384615,0,0,5.804444444444445]
[4,"09-май, Чт","2013-05-09",{"$f":"COUNTIFS(TaskRawData!C:C,\">=\"&C70,TaskRawData!C:C,\"<\"&C71)","v":0},{"$f":"COUNTIFS(TaskRawData!D:D,\">=\"&C70,TaskRawData!D:D,\"<\"&C71)","v":0},20,{"$f":"SUMIFS(MeetingRawData!C:C,MeetingRawData!B:B,\">\"&C70,MeetingRawData!B:B,\"<\"&(C70+1))","v":3},0,9.476923076923077,21.753846153846155,15.615384615384615,0,0,5.804444444444445]
[5,"10-май, Пт","2013-05-10",{"$f":"COUNTIFS(TaskRawData!C:C,\">=\"&C71,TaskRawData!C:C,\"<\"&C72)","v":0},{"$f":"COUNTIFS(TaskRawData!D:D,\">=\"&C71,TaskRawData!D:D,\"<\"&C72)","v":0},20,{"$f":"SUMIFS(MeetingRawData!C:C,MeetingRawData!B:B,\">\"&C71,MeetingRawData!B:B,\"<\"&(C71+1))","v":3},0,9.476923076923077,21.753846153846155,15.615384615384615,0,0,5.804444444444445]
[1,"13-май, Пн",{"$f":"C71+3","v":"2013-05-13"},{"$f":"COUNTIFS(TaskRawData!C:C,\">=\"&C72,TaskRawData!C:C,\"<\"&C73)","v":15},{"$f":"COUNTIFS(TaskRawData!D:D,\">=\"&C72,TaskRawData!D:D,\"<\"&C73)","v":14},21,{"$f":"SUMIFS(MeetingRawData!C:C,MeetingRawData!B:B,\">\"&C72,MeetingRawData!B:B,\"<\"&(C72+1))","v":3.5},1,9.476923076923077,21.753846153846155,15.615384615384615,15,7.5,5.804444444444445]
[2,"14-май, Вт","2013-05-14",{"$f":"COUNTIFS(TaskRawData!C:C,\">=\"&C73,TaskRawData!C:C,\"<\"&C74)","v":3},{"$f":"COUNTIFS(TaskRawData!D:D,\">=\"&C73,TaskRawData!D:D,\"<\"&C74)","v":2},22,{"$f":"SUMIFS(MeetingRawData!C:C,MeetingRawData!B:B,\">\"&C73,MeetingRawData!B:B,\"<\"&(C73+1))","v":0},1,9.476923076923077,21.753846153846155,15.615384615384615,12,9,5.804444444444445]
[3,"15-май, Ср","2013-05-15",{"$f":"COUNTIFS(TaskRawData!C:C,\">=\"&C74,TaskRawData!C:C,\"<\"&C75)","v":3},{"$f":"COUNTIFS(TaskRawData!D:D,\">=\"&C74,TaskRawData!D:D,\"<\"&C75)","v":2},23,{"$f":"SUMIFS(MeetingRawData!C:C,MeetingRawData!B:B,\">\"&C74,MeetingRawData!B:B,\"<\"&(C74+1))","v":8},1,9.476923076923077,21.753846153846155,15.615384615384615,0,3,5.804444444444445]
[4,"16-май, Чт","2013-05-16",{"$f":"COUNTIFS(TaskRawData!C:C,\">=\"&C75,TaskRawData!C:C,\"<\"&C76)","v":7},{"$f":"COUNTIFS(TaskRawData!D:D,\">=\"&C75,TaskRawData!D:D,\"<\"&C76)","v":6},24,{"$f":"SUMIFS(MeetingRawData!C:C,MeetingRawData!B:B,\">\"&C75,MeetingRawData!B:B,\"<\"&(C75+1))","v":5.5},1,9.476923076923077,21.753846153846155,15.615384615384615,4,5,5.804444444444445]
[5,"17-май, Пт","2013-05-17",{"$f":"COUNTIFS(TaskRawData!C:C,\">=\"&C76,TaskRawData!C:C,\"<\"&C77)","v":0},{"$f":"COUNTIFS(TaskRawData!D:D,\">=\"&C76,TaskRawData!D:D,\"<\"&C77)","v":1},23,{"$f":"SUMIFS(MeetingRawData!C:C,MeetingRawData!B:B,\">\"&C76,MeetingRawData!B:B,\"<\"&(C76+1))","v":3.25},1,9.476923076923077,21.753846153846155,15.615384615384615,7,3.5,5.804444444444445]
[1,"20-май, Пн",{"$f":"C76+3","v":"2013-05-20"},{"$f":"COUNTIFS(TaskRawData!C:C,\">=\"&C77,TaskRawData!C:C,\"<\"&C78)","v":10},{"$f":"COUNTIFS(TaskRawData!D:D,\">=\"&C77,TaskRawData!D:D,\"<\"&C78)","v":7},26,{"$f":"SUMIFS(MeetingRawData!C:C,MeetingRawData!B:B,\">\"&C77,MeetingRawData!B:B,\"<\"&(C77+1))","v":5.5},3,9.476923076923077,21.753846153846155,15.615384615384615,10,5,5.804444444444445]
[2,"21-май, Вт","2013-05-21",{"$f":"COUNTIFS(TaskRawData!C:C,\">=\"&C78,TaskRawData!C:C,\"<\"&C79)","v":3},{"$f":"COUNTIFS(TaskRawData!D:D,\">=\"&C78,TaskRawData!D:D,\"<\"&C79)","v":3},26,{"$f":"SUMIFS(MeetingRawData!C:C,MeetingRawData!B:B,\">\"&C78,MeetingRawData!B:B,\"<\"&(C78+1))","v":8},0,9.476923076923077,21.753846153846155,15.615384615384615,7,6.5,5.804444444444445]
[3,"22-май, Ср","2013-05-22",{"$f":"COUNTIFS(TaskRawData!C:C,\">=\"&C79,TaskRawData!C:C,\"<\"&C80)","v":1},{"$f":"COUNTIFS(TaskRawData!D:D,\">=\"&C79,TaskRawData!D:D,\"<\"&C80)","v":1},26,{"$f":"SUMIFS(MeetingRawData!C:C,MeetingRawData!B:B,\">\"&C79,MeetingRawData!B:B,\"<\"&(C79+1))","v":4.666666666666667},0,9.476923076923077,21.753846153846155,15.615384615384615,2,2,5.804444444444445]
[4,"23-май, Чт","2013-05-23",{"$f":"COUNTIFS(TaskRawData!C:C,\">=\"&C80,TaskRawData!C:C,\"<\"&C81)","v":3},{"$f":"COUNTIFS(TaskRawData!D:D,\">=\"&C80,TaskRawData!D:D,\"<\"&C81)","v":5},24,{"$f":"SUMIFS(MeetingRawData!C:C,MeetingRawData!B:B,\">\"&C80,MeetingRawData!B:B,\"<\"&(C80+1))","v":10},2,9.476923076923077,21.753846153846155,15.615384615384615,2,2,5.804444444444445]
[5,"24-май, Пт","2013-05-24",{"$f":"COUNTIFS(TaskRawData!C:C,\">=\"&C81,TaskRawData!C:C,\"<\"&C82)","v":3},{"$f":"COUNTIFS(TaskRawData!D:D,\">=\"&C81,TaskRawData!D:D,\"<\"&C82)","v":1},26,{"$f":"SUMIFS(MeetingRawData!C:C,MeetingRawData!B:B,\">\"&C81,MeetingRawData!B:B,\"<\"&(C81+1))","v":4},2,9.476923076923077,21.753846153846155,15.615384615384615,0,3,5.804444444444445]
[1,"27-май, Пн",{"$f":"C81+3","v":"2013-05-27"},{"$f":"COUNTIFS(TaskRawData!C:C,\">=\"&C82,TaskRawData!C:C,\"<\"&C83)","v":2},{"$f":"COUNTIFS(TaskRawData!D:D,\">=\"&C82,TaskRawData!D:D,\"<\"&C83)","v":2},26,{"$f":"SUMIFS(MeetingRawData!C:C,MeetingRawData!B:B,\">\"&C82,MeetingRawData!B:B,\"<\"&(C82+1))","v":5},0,9.476923076923077,21.753846153846155,15.615384615384615,1,2.5,5.804444444444445]
[2,"28-май, Вт","2013-05-28",{"$f":"COUNTIFS(TaskRawData!C:C,\">=\"&C83,TaskRawData!C:C,\"<\"&C84)","v":10},{"$f":"COUNTIFS(TaskRawData!D:D,\">=\"&C83,TaskRawData!D:D,\"<\"&C84)","v":7},29,{"$f":"SUMIFS(MeetingRawData!C:C,MeetingRawData!B:B,\">\"&C83,MeetingRawData!B:B,\"<\"&(C83+1))","v":9},3,9.476923076923077,21.753846153846155,15.615384615384615,8,6,5.804444444444445]
[3,"29-май, Ср","2013-05-29",{"$f":"COUNTIFS(TaskRawData!C:C,\">=\"&C84,TaskRawData!C:C,\"<\"&C85)","v":4},{"$f":"COUNTIFS(TaskRawData!D:D,\">=\"&C84,TaskRawData!D:D,\"<\"&C85)","v":7},26,{"$f":"SUMIFS(MeetingRawData!C:C,MeetingRawData!B:B,\">\"&C84,MeetingRawData!B:B,\"<\"&(C84+1))","v":4.5},3,9.476923076923077,21.753846153846155,15.615384615384615,6,7,5.804444444444445]
[4,"30-май, Чт","2013-05-30",{"$f":"COUNTIFS(TaskRawData!C:C,\">=\"&C85,TaskRawData!C:C,\"<\"&C86)","v":6},{"$f":"COUNTIFS(TaskRawData!D:D,\">=\"&C85,TaskRawData!D:D,\"<\"&C86)","v":7},25,{"$f":"SUMIFS(MeetingRawData!C:C,MeetingRawData!B:B,\">\"&C85,MeetingRawData!B:B,\"<\"&(C85+1))","v":16.75},1,9.476923076923077,21.753846153846155,15.615384615384615,2,5,5.804444444444445]
[5,"31-май, Пт","2013-05-31",{"$f":"COUNTIFS(TaskRawData!C:C,\">=\"&C86,TaskRawData!C:C,\"<\"&C87)","v":1},{"$f":"COUNTIFS(TaskRawData!D:D,\">=\"&C86,TaskRawData!D:D,\"<\"&C87)","v":3},23,{"$f":"SUMIFS(MeetingRawData!C:C,MeetingRawData!B:B,\">\"&C86,MeetingRawData!B:B,\"<\"&(C86+1))","v":6.5},2,9.476923076923077,21.753846153846155,15.615384615384615,5,3.5,5.804444444444445]
[1,"03-июн, Пн",{"$f":"C86+3","v":"2013-06-03"},{"$f":"COUNTIFS(TaskRawData!C:C,\">=\"&C87,TaskRawData!C:C,\"<\"&C88)","v":13},{"$f":"COUNTIFS(TaskRawData!D:D,\">=\"&C87,TaskRawData!D:D,\"<\"&C88)","v":15},{"$f":"D87-E87+F86","v":21},{"$f":"SUMIFS(MeetingRawData!C:C,MeetingRawData!B:B,\">\"&C87,MeetingRawData!B:B,\"<\"&(C87+1))","v":5},2,9.476923076923077,21.753846153846155,15.615384615384615,12,7,5.804444444444445]
[2,"04-июн, Вт",{"$f":"C87+1","v":"2013-06-04"},{"$f":"COUNTIFS(TaskRawData!C:C,\">=\"&C88,TaskRawData!C:C,\"<\"&C89)","v":0},{"$f":"COUNTIFS(TaskRawData!D:D,\">=\"&C88,TaskRawData!D:D,\"<\"&C89)","v":0},21,{"$f":"SUMIFS(MeetingRawData!C:C,MeetingRawData!B:B,\">\"&C88,MeetingRawData!B:B,\"<\"&(C88+1))","v":11},0,9.476923076923077,21.753846153846155,15.615384615384615,13,6.5,5.804444444444445]
[3,"05-июн, Ср","2013-06-05",{"$f":"COUNTIFS(TaskRawData!C:C,\">=\"&C89,TaskRawData!C:C,\"<\"&C90)","v":2},{"$f":"COUNTIFS(TaskRawData!D:D,\">=\"&C89,TaskRawData!D:D,\"<\"&C90)","v":2},21,{"$f":"SUMIFS(MeetingRawData!C:C,MeetingRawData!B:B,\">\"&C89,MeetingRawData!B:B,\"<\"&(C89+1))","v":6},0,9.476923076923077,21.753846153846155,15.615384615384615,2,1,5.804444444444445]
[4,"06-июн, Чт","2013-06-06",{"$f":"COUNTIFS(TaskRawData!C:C,\">=\"&C90,TaskRawData!C:C,\"<\"&C91)","v":3},{"$f":"COUNTIFS(TaskRawData!D:D,\">=\"&C90,TaskRawData!D:D,\"<\"&C91)","v":6},18,{"$f":"SUMIFS(MeetingRawData!C:C,MeetingRawData!B:B,\">\"&C90,MeetingRawData!B:B,\"<\"&(C90+1))","v":10},3,9.476923076923077,21.753846153846155,15.615384615384615,1,2.5,5.804444444444445]
[5,"07-июн, Пт","2013-06-07",{"$f":"COUNTIFS(TaskRawData!C:C,\">=\"&C91,TaskRawData!C:C,\"<\"&C92)","v":10},{"$f":"COUNTIFS(TaskRawData!D:D,\">=\"&C91,TaskRawData!D:D,\"<\"&C92)","v":2},26,{"$f":"SUMIFS(MeetingRawData!C:C,MeetingRawData!B:B,\">\"&C91,MeetingRawData!B:B,\"<\"&(C91+1))","v":3.5},8,9.476923076923077,21.753846153846155,15.615384615384615,7,6.5,5.804444444444445]
[1,"10-июн, Пн",{"$f":"C91+3","v":"2013-06-10"},{"$f":"COUNTIFS(TaskRawData!C:C,\">=\"&C92,TaskRawData!C:C,\"<\"&C93)","v":2},{"$f":"COUNTIFS(TaskRawData!D:D,\">=\"&C92,TaskRawData!D:D,\"<\"&C93)","v":6},22,{"$f":"SUMIFS(MeetingRawData!C:C,MeetingRawData!B:B,\">\"&C92,MeetingRawData!B:B,\"<\"&(C92+1))","v":7},4,9.476923076923077,21.753846153846155,15.615384615384615,8,6,5.804444444444445]
[2,"11-июн, Вт",{"$f":"C92+1","v":"2013-06-11"},{"$f":"COUNTIFS(TaskRawData!C:C,\">=\"&C93,TaskRawData!C:C,\"<\"&C94)","v":1},{"$f":"COUNTIFS(TaskRawData!D:D,\">=\"&C93,TaskRawData!D:D,\"<\"&C94)","v":3},20,{"$f":"SUMIFS(MeetingRawData!C:C,MeetingRawData!B:B,\">\"&C93,MeetingRawData!B:B,\"<\"&(C93+1))","v":12},2,9.476923076923077,21.753846153846155,15.615384615384615,1,1.5,5.804444444444445]
[3,"12-июн, Ср","2013-06-12",{"$f":"COUNTIFS(TaskRawData!C:C,\">=\"&C94,TaskRawData!C:C,\"<\"&C95)","v":0},{"$f":"COUNTIFS(TaskRawData!D:D,\">=\"&C94,TaskRawData!D:D,\"<\"&C95)","v":0},20,{"$f":"SUMIFS(MeetingRawData!C:C,MeetingRawData!B:B,\">\"&C94,MeetingRawData!B:B,\"<\"&(C94+1))","v":3},0,9.476923076923077,21.753846153846155,15.615384615384615,1,0.5,5.804444444444445]
[4,"13-июн, Чт","2013-06-13",{"$f":"COUNTIFS(TaskRawData!C:C,\">=\"&C95,TaskRawData!C:C,\"<\"&C96)","v":3},{"$f":"COUNTIFS(TaskRawData!D:D,\">=\"&C95,TaskRawData!D:D,\"<\"&C96)","v":7},16,{"$f":"SUMIFS(MeetingRawData!C:C,MeetingRawData!B:B,\">\"&C95,MeetingRawData!B:B,\"<\"&(C95+1))","v":13},4,9.476923076923077,21.753846153846155,15.615384615384615,3,1.5,5.804444444444445]
[5,"14-июн, Пт","2013-06-14",{"$f":"COUNTIFS(TaskRawData!C:C,\">=\"&C96,TaskRawData!C:C,\"<\"&C97)","v":2},{"$f":"COUNTIFS(TaskRawData!D:D,\">=\"&C96,TaskRawData!D:D,\"<\"&C97)","v":4},14,{"$f":"SUMIFS(MeetingRawData!C:C,MeetingRawData!B:B,\">\"&C96,MeetingRawData!B:B,\"<\"&(C96+1))","v":12.5},2,9.476923076923077,21.753846153846155,15.615384615384615,1,2.5,5.804444444444445]
[1,"17-июн, Пн",{"$f":"C96+3","v":"2013-06-17"},{"$f":"COUNTIFS(TaskRawData!C:C,\">=\"&C97,TaskRawData!C:C,\"<\"&C98)","v":2},{"$f":"COUNTIFS(TaskRawData!D:D,\">=\"&C97,TaskRawData!D:D,\"<\"&C98)","v":5},11,{"$f":"SUMIFS(MeetingRawData!C:C,MeetingRawData!B:B,\">\"&C97,MeetingRawData!B:B,\"<\"&(C97+1))","v":7.5},3,9.476923076923077,21.753846153846155,15.615384615384615,0,2,5.804444444444445]
[2,"18-июн, Вт",{"$f":"C97+1","v":"2013-06-18"},{"$f":"COUNTIFS(TaskRawData!C:C,\">=\"&C98,TaskRawData!C:C,\"<\"&C99)","v":2},{"$f":"COUNTIFS(TaskRawData!D:D,\">=\"&C98,TaskRawData!D:D,\"<\"&C99)","v":4},9,{"$f":"SUMIFS(MeetingRawData!C:C,MeetingRawData!B:B,\">\"&C98,MeetingRawData!B:B,\"<\"&(C98+1))","v":10},2,9.476923076923077,21.753846153846155,15.615384615384615,0,2,5.804444444444445]
[3,"19-июн, Ср","2013-06-19",{"$f":"COUNTIFS(TaskRawData!C:C,\">=\"&C99,TaskRawData!C:C,\"<\"&C100)","v":1},{"$f":"COUNTIFS(TaskRawData!D:D,\">=\"&C99,TaskRawData!D:D,\"<\"&C100)","v":1},9,{"$f":"SUMIFS(MeetingRawData!C:C,MeetingRawData!B:B,\">\"&C99,MeetingRawData!B:B,\"<\"&(C99+1))","v":8.5},0,9.476923076923077,21.753846153846155,15.615384615384615,1,1.5,5.804444444444445]
[4,"20-июн, Чт","2013-06-20",{"$f":"COUNTIFS(TaskRawData!C:C,\">=\"&C100,TaskRawData!C:C,\"<\"&C101)","v":0},{"$f":"COUNTIFS(TaskRawData!D:D,\">=\"&C100,TaskRawData!D:D,\"<\"&C101)","v":1},8,{"$f":"SUMIFS(MeetingRawData!C:C,MeetingRawData!B:B,\">\"&C100,MeetingRawData!B:B,\"<\"&(C100+1))","v":10},1,9.476923076923077,21.753846153846155,15.615384615384615,1,0.5,5.804444444444445]
[5,"21-июн, Пт","2013-06-21",{"$f":"COUNTIFS(TaskRawData!C:C,\">=\"&C101,TaskRawData!C:C,\"<\"&C102)","v":1},{"$f":"COUNTIFS(TaskRawData!D:D,\">=\"&C101,TaskRawData!D:D,\"<\"&C102)","v":0},9,{"$f":"SUMIFS(MeetingRawData!C:C,MeetingRawData!B:B,\">\"&C101,MeetingRawData!B:B,\"<\"&(C101+1))","v":3},1,9.476923076923077,21.753846153846155,15.615384615384615,1,0.5,5.804444444444445]
[1,"24-июн, Пн",{"$f":"C101+3","v":"2013-06-24"},{"$f":"COUNTIFS(TaskRawData!C:C,\">=\"&C102,TaskRawData!C:C,\"<\"&C103)","v":1},{"$f":"COUNTIFS(TaskRawData!D:D,\">=\"&C102,TaskRawData!D:D,\"<\"&C103)","v":0},10,{"$f":"SUMIFS(MeetingRawData!C:C,MeetingRawData!B:B,\">\"&C102,MeetingRawData!B:B,\"<\"&(C102+1))","v":0},1,9.476923076923077,21.753846153846155,15.615384615384615,0,1,5.804444444444445]
[2,"25-июн, Вт",{"$f":"C102+1","v":"2013-06-25"},{"$f":"COUNTIFS(TaskRawData!C:C,\">=\"&C103,TaskRawData!C:C,\"<\"&C104)","v":0},{"$f":"COUNTIFS(TaskRawData!D:D,\">=\"&C103,TaskRawData!D:D,\"<\"&C104)","v":0},10,{"$f":"SUMIFS(MeetingRawData!C:C,MeetingRawData!B:B,\">\"&C103,MeetingRawData!B:B,\"<\"&(C103+1))","v":0},0,9.476923076923077,21.753846153846155,15.615384615384615,1,0.5,5.804444444444445]
[3,"26-июн, Ср","2013-06-26",{"$f":"COUNTIFS(TaskRawData!C:C,\">=\"&C104,TaskRawData!C:C,\"<\"&C105)","v":0},{"$f":"COUNTIFS(TaskRawData!D:D,\">=\"&C104,TaskRawData!D:D,\"<\"&C105)","v":0},10,{"$f":"SUMIFS(MeetingRawData!C:C,MeetingRawData!B:B,\">\"&C104,MeetingRawData!B:B,\"<\"&(C104+1))","v":0},0,9.476923076923077,21.753846153846155,15.615384615384615,0,0,5.804444444444445]
[4,"27-июн, Чт","2013-06-27",{"$f":"COUNTIFS(TaskRawData!C:C,\">=\"&C105,TaskRawData!C:C,\"<\"&C106)","v":0},{"$f":"COUNTIFS(TaskRawData!D:D,\">=\"&C105,TaskRawData!D:D,\"<\"&C106)","v":0},10,{"$f":"SUMIFS(MeetingRawData!C:C,MeetingRawData!B:B,\">\"&C105,MeetingRawData!B:B,\"<\"&(C105+1))","v":0},0,9.476923076923077,21.753846153846155,15.615384615384615,0,0,5.804444444444445]
[5,"28-июн, Пт","2013-06-28",{"$f":"COUNTIFS(TaskRawData!C:C,\">=\"&C106,TaskRawData!C:C,\"<\"&C107)","v":0},{"$f":"COUNTIFS(TaskRawData!D:D,\">=\"&C106,TaskRawData!D:D,\"<\"&C107)","v":0},10,{"$f":"SUMIFS(MeetingRawData!C:C,MeetingRawData!B:B,\">\"&C106,MeetingRawData!B:B,\"<\"&(C106+1))","v":0},0,9.476923076923077,21.753846153846155,15.615384615384615,0,0,5.804444444444445]
[6,"29-июн, Сб",{"$f":"C106+1","v":"2013-06-29"}]
[]
[]
[]
[]
[]
[null,null,null,"OUTFLOW",null,null,"INFLOW"]
[]
[null,"Bin","Number of tasks","Cumulative","Number of days",null,"Number of tasks","Cumulative","Number of days"]
[null,-1]
[null,5,{"$f":"E117/$E$123","v":0.77777777777777779},{"$f":"C117+D116","v":0.77777777777777779},{"$f":"COUNTIFS($E$62:$E$106,\"<=\"&B117,$E$62:$E$106,\">\"&B116)","v":35},null,{"$f":"I117/$I$123","v":0.84444444444444444},{"$f":"G117+H116","v":0.84444444444444444},{"$f":"COUNTIFS($D$62:$D$106,\"<=\"&B117,$D$62:$D$106,\">\"&B116)","v":38}]
[null,10,{"$f":"E118/$E$123","v":0.17777777777777778},{"$f":"C118+D117","v":0.9555555555555556},8,null,0.1111111111111111,{"$f":"G118+H117","v":0.95555555555555549},5]
[null,15,4.4444444444444446E-2,1,2,null,4.4444444444444446E-2,0.99999999999999989,2]
[null,20,0,1,0,null,0,0.99999999999999989,0]
[null,25,0,1,0,null,0,0.99999999999999989,0]
[null,100,0,1,0,null,0,0.99999999999999989,0]
[null,null,null,"TOTAL",{"$f":"SUM(E117:E122)","v":45},null,null,"TOTAL",{"$f":"SUM(I117:I122)","v":45}]
[]
[]
[]
[]
[]
[null,"To Do",{"$f":"C131-C130","v":3}]
[null,"To Check",{"$f":"COUNTIFS(TaskRawData!B:B, FALSE,TaskRawData!E:E,\"TO CHECK\")","v":7}]
[null,"TOTAL",{"$f":"COUNTIFS(TaskRawData!B:B, FALSE)","v":10}]
[]
[null,"Личное",{"$f":"COUNTIFS(TaskRawData!B:B, FALSE,TaskRawData!E:E,\"Личное\")","v":0}]
[null,"Рабочее",{"$f":"C131-C133","v":10}]

{"sheet":"Лист2","index":5,"n_rows":0,"n_cols":0,"rows_kept":0,"cut":false,"hidden":false,"merged":[]}